BEGIN:VCALENDAR
VERSION:2.0
PRODID:-//midwestchildcare.org//NONSGML kigkonsult.se iCalcreator 2.30.10//
CALSCALE:GREGORIAN
METHOD:PUBLISH
UID:7bdb08ba-2b72-4a1f-b0f1-57d924099455
X-WR-CALDESC:Cocoa’s Cranky Christmas | An Interactive Preschool Class\n\nY
 ou are invited to a Zoom meeting.\nWhen: Dec 18\, 2025 10:00 AM Central Ti
 me (US and Canada)\n\nRegister in advance for this meeting:\nhttps://us02w
 eb.zoom.us/meeting/register/0M86QLfKRd6XyNRSDvsAmg\n\nAfter registering\, 
 you will receive a confirmation email containing information about joining
  the meeting.
X-WR-RELCALID:5b48399fd073c6a895c6c3678c63e793
X-WR-TIMEZONE:America/Chicago
BEGIN:VTIMEZONE
TZID:America/Chicago
BEGIN:STANDARD
TZNAME:CST
DTSTART:20251102T020000
TZOFFSETFROM:-0500
TZOFFSETTO:-0600
RDATE:20261101T020000
END:STANDARD
BEGIN:DAYLIGHT
TZNAME:CDT
DTSTART:20250309T020000
TZOFFSETFROM:-0600
TZOFFSETTO:-0500
RDATE:20260308T020000
RDATE:20270314T020000
END:DAYLIGHT
END:VTIMEZONE
BEGIN:VEVENT
UID:de594384-1450-4e21-b631-306f6041292b
DTSTAMP:20260420T085203Z
DESCRIPTION:Cocoa’s Cranky Christmas | An Interactive Preschool Class\n\nYo
 u are invited to a Zoom meeting.\nWhen: Dec 18\, 2025 10:00 AM Central Tim
 e (US and Canada)\n\nRegister in advance for this meeting:\nhttps://us02we
 b.zoom.us/meeting/register/0M86QLfKRd6XyNRSDvsAmg\n\nAfter registering\, y
 ou will receive a confirmation email containing information about joining 
 the meeting.
DTSTART;TZID=America/Chicago:20251218T100000
DTEND;TZID=America/Chicago:20251218T103000
LOCATION:https://us02web.zoom.us/meeting/register/0M86QLfKRd6XyNRSDvsAmg
SUMMARY:Cocoa’s Cranky Christmas | An Interactive Preschool Class
END:VEVENT
END:VCALENDAR
