BEGIN:VCALENDAR
VERSION:2.0
PRODID:-//midwestchildcare.org//NONSGML kigkonsult.se iCalcreator 2.30.10//
CALSCALE:GREGORIAN
METHOD:PUBLISH
UID:bc5be8d2-8134-4d28-9d86-87a586fc37d1
X-WR-CALDESC:Cocoa’s Cranky Christmas | An Interactive Preschool Class\n\nY
 ou are invited to a Zoom meeting.\nWhen: Dec 18\, 2025 09:30 AM Central Ti
 me (US and Canada)\n\nRegister in advance for this meeting:\nhttps://us02w
 eb.zoom.us/meeting/register/7mEwMQcdQbGrbnssEt0OUw\n\nAfter registering\, 
 you will receive a confirmation email containing information about joining
  the meeting.
X-WR-RELCALID:e2e5bb651216e62e494b6348c24ddbee
X-WR-TIMEZONE:America/Chicago
BEGIN:VTIMEZONE
TZID:America/Chicago
BEGIN:STANDARD
TZNAME:CST
DTSTART:20251102T020000
TZOFFSETFROM:-0500
TZOFFSETTO:-0600
RDATE:20261101T020000
END:STANDARD
BEGIN:DAYLIGHT
TZNAME:CDT
DTSTART:20250309T020000
TZOFFSETFROM:-0600
TZOFFSETTO:-0500
RDATE:20260308T020000
RDATE:20270314T020000
END:DAYLIGHT
END:VTIMEZONE
BEGIN:VEVENT
UID:d3e56ad5-f769-4412-8f6a-3f3c82dd4d75
DTSTAMP:20260422T084713Z
DESCRIPTION:Cocoa’s Cranky Christmas | An Interactive Preschool Class\n\nYo
 u are invited to a Zoom meeting.\nWhen: Dec 18\, 2025 09:30 AM Central Tim
 e (US and Canada)\n\nRegister in advance for this meeting:\nhttps://us02we
 b.zoom.us/meeting/register/7mEwMQcdQbGrbnssEt0OUw\n\nAfter registering\, y
 ou will receive a confirmation email containing information about joining 
 the meeting.
DTSTART;TZID=America/Chicago:20251218T093000
DTEND;TZID=America/Chicago:20251218T100000
LOCATION:https://us02web.zoom.us/meeting/register/7mEwMQcdQbGrbnssEt0OUw
SUMMARY:Cocoa’s Cranky Christmas | An Interactive Preschool Class
END:VEVENT
END:VCALENDAR
