BEGIN:VCALENDAR
VERSION:2.0
PRODID:-//midwestchildcare.org//NONSGML kigkonsult.se iCalcreator 2.30.10//
CALSCALE:GREGORIAN
METHOD:PUBLISH
UID:b116ebb1-9ad0-42d9-a31c-2f814e1f0d82
X-WR-CALDESC:Cocoa’s Cranky Christmas | An Interactive Preschool Class\n\nY
 ou are invited to a Zoom meeting.\nWhen: Dec 18\, 2025 09:00 AM Central Ti
 me (US and Canada)\n\nRegister in advance for this meeting:\nhttps://us02w
 eb.zoom.us/meeting/register/ouaa-BFuTPq2_fGQWrVZQQ\n\nAfter registering\, 
 you will receive a confirmation email containing information about joining
  the meeting.
X-WR-RELCALID:f23fba17750b499ebcd257052cf55fbc
X-WR-TIMEZONE:America/Chicago
BEGIN:VTIMEZONE
TZID:America/Chicago
BEGIN:STANDARD
TZNAME:CST
DTSTART:20251102T020000
TZOFFSETFROM:-0500
TZOFFSETTO:-0600
RDATE:20261101T020000
END:STANDARD
BEGIN:DAYLIGHT
TZNAME:CDT
DTSTART:20250309T020000
TZOFFSETFROM:-0600
TZOFFSETTO:-0500
RDATE:20260308T020000
RDATE:20270314T020000
END:DAYLIGHT
END:VTIMEZONE
BEGIN:VEVENT
UID:d8cc05e1-0c27-44d6-b570-6fb381b6a994
DTSTAMP:20260420T090623Z
DESCRIPTION:Cocoa’s Cranky Christmas | An Interactive Preschool Class\n\nYo
 u are invited to a Zoom meeting.\nWhen: Dec 18\, 2025 09:00 AM Central Tim
 e (US and Canada)\n\nRegister in advance for this meeting:\nhttps://us02we
 b.zoom.us/meeting/register/ouaa-BFuTPq2_fGQWrVZQQ\n\nAfter registering\, y
 ou will receive a confirmation email containing information about joining 
 the meeting.
DTSTART;TZID=America/Chicago:20251218T090000
DTEND;TZID=America/Chicago:20251218T093000
LOCATION:https://us02web.zoom.us/meeting/register/ouaa-BFuTPq2_fGQWrVZQQ
SUMMARY:Cocoa’s Cranky Christmas | An Interactive Preschool Class
END:VEVENT
END:VCALENDAR
