BEGIN:VCALENDAR
VERSION:2.0
PRODID:-//midwestchildcare.org//NONSGML kigkonsult.se iCalcreator 2.30.10//
CALSCALE:GREGORIAN
METHOD:PUBLISH
UID:1a614f76-352e-4648-bd7e-ecd85a9572b1
X-WR-CALDESC:HSI Pediatric First Aid | CPR AED Child/Infant/Adult (2020)\n
 \nClass Number:	\n33277973\n\nClass Type:	\nClassroom Training\n\nDescriptio
 n:	\nHSI Pediatric First Aid | CPR AED Child/Infant/Adult (2020)\n\nLocatio
 n:	\n7701 Pacific St Ste 200\nOmaha\, NE 68114\n\nDate/Time:	\n12/13/2025\, 
 9:00 AM - 1:00 PM
X-WR-RELCALID:f43bbb3ac6c8e75d9712ba8835c7521b
X-WR-TIMEZONE:America/Chicago
BEGIN:VTIMEZONE
TZID:America/Chicago
BEGIN:STANDARD
TZNAME:CST
DTSTART:20251102T020000
TZOFFSETFROM:-0500
TZOFFSETTO:-0600
RDATE:20261101T020000
END:STANDARD
BEGIN:DAYLIGHT
TZNAME:CDT
DTSTART:20250309T020000
TZOFFSETFROM:-0600
TZOFFSETTO:-0500
RDATE:20260308T020000
RDATE:20270314T020000
END:DAYLIGHT
END:VTIMEZONE
BEGIN:VEVENT
UID:90628182-591a-4056-b23f-c583aff25dfe
DTSTAMP:20260420T085358Z
DESCRIPTION:HSI Pediatric First Aid | CPR AED Child/Infant/Adult (2020)\n\n
 Class Number:	\n33277973\n\nClass Type:	\nClassroom Training\n\nDescription:
 	\nHSI Pediatric First Aid | CPR AED Child/Infant/Adult (2020)\n\nLocation:
 	\n7701 Pacific St Ste 200\nOmaha\, NE 68114\n\nDate/Time:	\n12/13/2025\, 9:
 00 AM - 1:00 PM
DTSTART;TZID=America/Chicago:20251213T090000
DTEND;TZID=America/Chicago:20251213T130000
LOCATION:https://otis.osmanager4.com/#/openEnrollment?co=1&cid=4052209
SUMMARY:HSI Pediatric First Aid | CPR AED Child/Infant/Adult (2020)
END:VEVENT
END:VCALENDAR
