BEGIN:VCALENDAR
VERSION:2.0
PRODID:-//midwestchildcare.org//NONSGML kigkonsult.se iCalcreator 2.30.10//
CALSCALE:GREGORIAN
METHOD:PUBLISH
UID:a9944a64-ec16-4df4-afe9-3fead8ac4b6d
X-WR-CALDESC:Time to Recharge\, Harper | An Interactive Preschool Class Mee
 ting\n\nYou are invited to a Zoom meeting.\nWhen: Dec 11\, 2025 10:00 AM C
 entral Time (US and Canada)\n\nRegister in advance for this meeting:\nhttp
 s://us02web.zoom.us/meeting/register/RhcyIGtjTSG3ba79GIsoww\n\nAfter regis
 tering\, you will receive a confirmation email containing information abou
 t joining the meeting.
X-WR-RELCALID:a4649a534ae618ba7a21728dcf25aeb1
X-WR-TIMEZONE:America/Chicago
BEGIN:VTIMEZONE
TZID:America/Chicago
BEGIN:STANDARD
TZNAME:CST
DTSTART:20251102T020000
TZOFFSETFROM:-0500
TZOFFSETTO:-0600
RDATE:20261101T020000
END:STANDARD
BEGIN:DAYLIGHT
TZNAME:CDT
DTSTART:20250309T020000
TZOFFSETFROM:-0600
TZOFFSETTO:-0500
RDATE:20260308T020000
RDATE:20270314T020000
END:DAYLIGHT
END:VTIMEZONE
BEGIN:VEVENT
UID:bd0a37eb-23b7-48ef-af62-2170507a18b6
DTSTAMP:20260420T085956Z
DESCRIPTION:Time to Recharge\, Harper | An Interactive Preschool Class Meet
 ing\n\nYou are invited to a Zoom meeting.\nWhen: Dec 11\, 2025 10:00 AM Ce
 ntral Time (US and Canada)\n\nRegister in advance for this meeting:\nhttps
 ://us02web.zoom.us/meeting/register/RhcyIGtjTSG3ba79GIsoww\n\nAfter regist
 ering\, you will receive a confirmation email containing information about
  joining the meeting.
DTSTART;TZID=America/Chicago:20251211T100000
DTEND;TZID=America/Chicago:20251211T103000
LOCATION:https://us02web.zoom.us/meeting/register/RhcyIGtjTSG3ba79GIsoww
SUMMARY:Time to Recharge\, Harper | An Interactive Preschool Class Meeting
END:VEVENT
END:VCALENDAR
