BEGIN:VCALENDAR
VERSION:2.0
PRODID:-//midwestchildcare.org//NONSGML kigkonsult.se iCalcreator 2.30.10//
CALSCALE:GREGORIAN
METHOD:PUBLISH
UID:d2a6712d-35c5-4e1c-a819-18b476285a17
X-WR-CALDESC:Time to Recharge\, Harper: An Interactive Preschool Class Meet
 ing\n\nYou are invited to a Zoom meeting.\nWhen: Dec 11\, 2025 09:30 AM Ce
 ntral Time (US and Canada)\n\nRegister in advance for this meeting:\nhttps
 ://us02web.zoom.us/meeting/register/dHhPJwJYSTu6nIjfusMV3w\n\nAfter regist
 ering\, you will receive a confirmation email containing information about
  joining the meeting.
X-WR-RELCALID:c7aa52369b7b1a7dac0561394d446942
X-WR-TIMEZONE:America/Chicago
BEGIN:VTIMEZONE
TZID:America/Chicago
BEGIN:STANDARD
TZNAME:CST
DTSTART:20251102T020000
TZOFFSETFROM:-0500
TZOFFSETTO:-0600
RDATE:20261101T020000
END:STANDARD
BEGIN:DAYLIGHT
TZNAME:CDT
DTSTART:20250309T020000
TZOFFSETFROM:-0600
TZOFFSETTO:-0500
RDATE:20260308T020000
RDATE:20270314T020000
END:DAYLIGHT
END:VTIMEZONE
BEGIN:VEVENT
UID:20b745de-0b5e-48c6-9f1e-caaf5e3f2742
DTSTAMP:20260424T082725Z
DESCRIPTION:Time to Recharge\, Harper: An Interactive Preschool Class Meeti
 ng\n\nYou are invited to a Zoom meeting.\nWhen: Dec 11\, 2025 09:30 AM Cen
 tral Time (US and Canada)\n\nRegister in advance for this meeting:\nhttps:
 //us02web.zoom.us/meeting/register/dHhPJwJYSTu6nIjfusMV3w\n\nAfter registe
 ring\, you will receive a confirmation email containing information about 
 joining the meeting.
DTSTART;TZID=America/Chicago:20251211T093000
DTEND;TZID=America/Chicago:20251211T100000
LOCATION:https://us02web.zoom.us/meeting/register/dHhPJwJYSTu6nIjfusMV3w
SUMMARY:Time to Recharge\, Harper: An Interactive Preschool Class Meeting
END:VEVENT
END:VCALENDAR
