BEGIN:VCALENDAR
VERSION:2.0
PRODID:-//midwestchildcare.org//NONSGML kigkonsult.se iCalcreator 2.30.10//
CALSCALE:GREGORIAN
METHOD:PUBLISH
UID:1474438e-3d70-45ae-ba68-03ffaae23121
X-WR-CALDESC:Time to Recharge\, Harper | An Interactive Preschool Class Mee
 ting\n\nYou are invited to a Zoom meeting.\nWhen: Dec 11\, 2025 09:00 AM C
 entral Time (US and Canada)\n\nRegister in advance for this meeting:\nhttp
 s://us02web.zoom.us/meeting/register/2qbawrD5SbSakQc2oTp6Xg\n\nAfter regis
 tering\, you will receive a confirmation email containing information abou
 t joining the meeting.
X-WR-RELCALID:202533adc0899cf67af0bb1160c0db5e
X-WR-TIMEZONE:America/Chicago
BEGIN:VTIMEZONE
TZID:America/Chicago
BEGIN:STANDARD
TZNAME:CST
DTSTART:20251102T020000
TZOFFSETFROM:-0500
TZOFFSETTO:-0600
RDATE:20261101T020000
END:STANDARD
BEGIN:DAYLIGHT
TZNAME:CDT
DTSTART:20250309T020000
TZOFFSETFROM:-0600
TZOFFSETTO:-0500
RDATE:20260308T020000
RDATE:20270314T020000
END:DAYLIGHT
END:VTIMEZONE
BEGIN:VEVENT
UID:fbf74834-3f40-4fee-a1c2-35ff7d1251a1
DTSTAMP:20260422T085251Z
DESCRIPTION:Time to Recharge\, Harper | An Interactive Preschool Class Meet
 ing\n\nYou are invited to a Zoom meeting.\nWhen: Dec 11\, 2025 09:00 AM Ce
 ntral Time (US and Canada)\n\nRegister in advance for this meeting:\nhttps
 ://us02web.zoom.us/meeting/register/2qbawrD5SbSakQc2oTp6Xg\n\nAfter regist
 ering\, you will receive a confirmation email containing information about
  joining the meeting.
DTSTART;TZID=America/Chicago:20251211T090000
DTEND;TZID=America/Chicago:20251211T093000
LOCATION:https://us02web.zoom.us/meeting/register/2qbawrD5SbSakQc2oTp6Xg
SUMMARY:Time to Recharge\, Harper | An Interactive Preschool Class Meeting
END:VEVENT
END:VCALENDAR
