BEGIN:VCALENDAR
VERSION:2.0
PRODID:-//midwestchildcare.org//NONSGML kigkonsult.se iCalcreator 2.30.10//
CALSCALE:GREGORIAN
METHOD:PUBLISH
UID:5cd15282-02c0-4957-80be-9214b9269c90
X-WR-CALDESC:Food Safety Best Practices | 1-Hour Webinar\n\nPlease register
  for Food Safety Best Practices on Dec 9\, 2025 7:00 PM CST at:\n\nhttps:/
 /attendee.gotowebinar.com/register/1366507587210279000\n\nAfter registerin
 g\, you will receive a confirmation email containing information about joi
 ning the webinar.
X-WR-RELCALID:8cba3a4f44466b34c3568a16f7b85025
X-WR-TIMEZONE:America/Chicago
BEGIN:VTIMEZONE
TZID:America/Chicago
BEGIN:STANDARD
TZNAME:CST
DTSTART:20251102T020000
TZOFFSETFROM:-0500
TZOFFSETTO:-0600
RDATE:20261101T020000
END:STANDARD
BEGIN:DAYLIGHT
TZNAME:CDT
DTSTART:20250309T020000
TZOFFSETFROM:-0600
TZOFFSETTO:-0500
RDATE:20260308T020000
RDATE:20270314T020000
END:DAYLIGHT
END:VTIMEZONE
BEGIN:VEVENT
UID:6fddfaec-ae6a-4f81-b9fe-7067d906a7bd
DTSTAMP:20260420T083640Z
DESCRIPTION:Food Safety Best Practices | 1-Hour Webinar\n\nPlease register 
 for Food Safety Best Practices on Dec 9\, 2025 7:00 PM CST at:\n\nhttps://
 attendee.gotowebinar.com/register/1366507587210279000\n\nAfter registering
 \, you will receive a confirmation email containing information about join
 ing the webinar.
DTSTART;TZID=America/Chicago:20251209T190000
DTEND;TZID=America/Chicago:20251209T200000
LOCATION:https://attendee.gotowebinar.com/register/1366507587210279000
SUMMARY:Food Safety Best Practices | 1-Hour Webinar
END:VEVENT
END:VCALENDAR
