BEGIN:VCALENDAR
VERSION:2.0
PRODID:-//midwestchildcare.org//NONSGML kigkonsult.se iCalcreator 2.30.10//
CALSCALE:GREGORIAN
METHOD:PUBLISH
UID:9a1eed07-7e5c-4e7e-959f-743ee64b7ed3
X-WR-CALDESC:HSI Pediatric First Aid | CPR AED Child/Infant/Adult (2020)\n
 \nClass Number:	\n33274748\n\nClass Type:	\nClassroom Training\n\nDescriptio
 n:	\nHSI Pediatric First Aid | CPR AED Child/Infant/Adult (2020)\n\nLocatio
 n:	\n7701 Pacific St Ste 200\nOmaha\, NE 68114\n\nDate/Time:	\n12/04/2025\, 
 6:00 PM - 8:00 PM
X-WR-RELCALID:c71c2c999370a661013a322142d83db4
X-WR-TIMEZONE:America/Chicago
BEGIN:VTIMEZONE
TZID:America/Chicago
BEGIN:STANDARD
TZNAME:CST
DTSTART:20251102T020000
TZOFFSETFROM:-0500
TZOFFSETTO:-0600
RDATE:20261101T020000
END:STANDARD
BEGIN:DAYLIGHT
TZNAME:CDT
DTSTART:20250309T020000
TZOFFSETFROM:-0600
TZOFFSETTO:-0500
RDATE:20260308T020000
RDATE:20270314T020000
END:DAYLIGHT
END:VTIMEZONE
BEGIN:VEVENT
UID:41cb8e43-ff13-46e9-ac57-c6092ba4e970
DTSTAMP:20260420T085919Z
DESCRIPTION:HSI Pediatric First Aid | CPR AED Child/Infant/Adult (2020)\n\n
 Class Number:	\n33274748\n\nClass Type:	\nClassroom Training\n\nDescription:
 	\nHSI Pediatric First Aid | CPR AED Child/Infant/Adult (2020)\n\nLocation:
 	\n7701 Pacific St Ste 200\nOmaha\, NE 68114\n\nDate/Time:	\n12/04/2025\, 6:
 00 PM - 8:00 PM
DTSTART;TZID=America/Chicago:20251204T180000
DTEND;TZID=America/Chicago:20251204T200000
LOCATION:https://otis.osmanager4.com/#/openEnrollment?co=1&cid=4114004
SUMMARY:HSI Pediatric First Aid | CPR AED Child/Infant/Adult (2020)
END:VEVENT
END:VCALENDAR
