BEGIN:VCALENDAR
VERSION:2.0
PRODID:-//midwestchildcare.org//NONSGML kigkonsult.se iCalcreator 2.30.10//
CALSCALE:GREGORIAN
METHOD:PUBLISH
UID:3905c51e-4c55-4a2a-ba0b-29ada2fa595b
X-WR-CALDESC:Food Allergies\, Intolerances and Sensitivities | 1-Hour Webin
 ar\n\nPlease register for Food Allergies\, Intolerances and Sensitivities 
 on Dec 4\, 2025 1:00 PM CST at:\n\nhttps://attendee.gotowebinar.com/regist
 er/4494481828791135838\n\nAfter registering\, you will receive a confirmat
 ion email containing information about joining the webinar.
X-WR-RELCALID:319f0d7856ec96015c56b64899b7c9bc
X-WR-TIMEZONE:America/Chicago
BEGIN:VTIMEZONE
TZID:America/Chicago
BEGIN:STANDARD
TZNAME:CST
DTSTART:20251102T020000
TZOFFSETFROM:-0500
TZOFFSETTO:-0600
RDATE:20261101T020000
END:STANDARD
BEGIN:DAYLIGHT
TZNAME:CDT
DTSTART:20250309T020000
TZOFFSETFROM:-0600
TZOFFSETTO:-0500
RDATE:20260308T020000
RDATE:20270314T020000
END:DAYLIGHT
END:VTIMEZONE
BEGIN:VEVENT
UID:1347210e-1c25-4f1b-aa72-55daa9c5af5e
DTSTAMP:20260420T123247Z
DESCRIPTION:Food Allergies\, Intolerances and Sensitivities | 1-Hour Webina
 r\n\nPlease register for Food Allergies\, Intolerances and Sensitivities o
 n Dec 4\, 2025 1:00 PM CST at:\n\nhttps://attendee.gotowebinar.com/registe
 r/4494481828791135838\n\nAfter registering\, you will receive a confirmati
 on email containing information about joining the webinar.
DTSTART;TZID=America/Chicago:20251204T130000
DTEND;TZID=America/Chicago:20251204T140000
LOCATION:https://attendee.gotowebinar.com/register/4494481828791135838
SUMMARY:Food Allergies\, Intolerances and Sensitivities | 1-Hour Webinar
END:VEVENT
END:VCALENDAR
