BEGIN:VCALENDAR
VERSION:2.0
PRODID:-//midwestchildcare.org//NONSGML kigkonsult.se iCalcreator 2.30.10//
CALSCALE:GREGORIAN
METHOD:PUBLISH
UID:98bddd4f-bf35-470d-83f2-0895f84523a9
X-WR-CALDESC:Don't Blink | An Interactive Preschool Class Meeting\n\nYou ar
 e invited to a Zoom meeting.\nWhen: Dec 4\, 2025 09:30 AM Central Time (US
  and Canada)\n\nRegister in advance for this meeting:\nhttps://us02web.zoo
 m.us/meeting/register/7-YZMv-yRnuww2XMycBtuQ\n\nAfter registering\, you wi
 ll receive a confirmation email containing information about joining the m
 eeting.
X-WR-RELCALID:9d237829b11bb09530716a3879be4723
X-WR-TIMEZONE:America/Chicago
BEGIN:VTIMEZONE
TZID:America/Chicago
BEGIN:STANDARD
TZNAME:CST
DTSTART:20251102T020000
TZOFFSETFROM:-0500
TZOFFSETTO:-0600
RDATE:20261101T020000
END:STANDARD
BEGIN:DAYLIGHT
TZNAME:CDT
DTSTART:20250309T020000
TZOFFSETFROM:-0600
TZOFFSETTO:-0500
RDATE:20260308T020000
RDATE:20270314T020000
END:DAYLIGHT
END:VTIMEZONE
BEGIN:VEVENT
UID:27cc1ce7-8419-4880-b3a0-35b02cbf503a
DTSTAMP:20260422T084713Z
DESCRIPTION:Don't Blink | An Interactive Preschool Class Meeting\n\nYou are
  invited to a Zoom meeting.\nWhen: Dec 4\, 2025 09:30 AM Central Time (US 
 and Canada)\n\nRegister in advance for this meeting:\nhttps://us02web.zoom
 .us/meeting/register/7-YZMv-yRnuww2XMycBtuQ\n\nAfter registering\, you wil
 l receive a confirmation email containing information about joining the me
 eting.
DTSTART;TZID=America/Chicago:20251204T093000
DTEND;TZID=America/Chicago:20251204T100000
LOCATION:https://us02web.zoom.us/meeting/register/7-YZMv-yRnuww2XMycBtuQ
SUMMARY:Don't Blink | An Interactive Preschool Class Meeting
END:VEVENT
END:VCALENDAR
