BEGIN:VCALENDAR
VERSION:2.0
PRODID:-//midwestchildcare.org//NONSGML kigkonsult.se iCalcreator 2.30.10//
CALSCALE:GREGORIAN
METHOD:PUBLISH
UID:60a17cd4-0358-48c3-b185-9a4e764e5b92
X-WR-CALDESC:Don't Blink | An Interactive Preschool Class Meeting\n\nYou ar
 e invited to a Zoom meeting.\nWhen: Dec 4\, 2025 09:00 AM Central Time (US
  and Canada)\n\nRegister in advance for this meeting:\nhttps://us02web.zoo
 m.us/meeting/register/MFR8FXI9TV-MPIDNgIUJUg\n\nAfter registering\, you wi
 ll receive a confirmation email containing information about joining the m
 eeting.
X-WR-RELCALID:c7ce3e12c6f479a61e9d40f43cc97285
X-WR-TIMEZONE:America/Chicago
BEGIN:VTIMEZONE
TZID:America/Chicago
BEGIN:STANDARD
TZNAME:CST
DTSTART:20251102T020000
TZOFFSETFROM:-0500
TZOFFSETTO:-0600
RDATE:20261101T020000
END:STANDARD
BEGIN:DAYLIGHT
TZNAME:CDT
DTSTART:20250309T020000
TZOFFSETFROM:-0600
TZOFFSETTO:-0500
RDATE:20260308T020000
RDATE:20270314T020000
END:DAYLIGHT
END:VTIMEZONE
BEGIN:VEVENT
UID:cb276070-21da-416f-b1ab-a5c00d57e16b
DTSTAMP:20260420T085216Z
DESCRIPTION:Don't Blink | An Interactive Preschool Class Meeting\n\nYou are
  invited to a Zoom meeting.\nWhen: Dec 4\, 2025 09:00 AM Central Time (US 
 and Canada)\n\nRegister in advance for this meeting:\nhttps://us02web.zoom
 .us/meeting/register/MFR8FXI9TV-MPIDNgIUJUg\n\nAfter registering\, you wil
 l receive a confirmation email containing information about joining the me
 eting.
DTSTART;TZID=America/Chicago:20251204T090000
DTEND;TZID=America/Chicago:20251204T093000
LOCATION:https://us02web.zoom.us/meeting/register/MFR8FXI9TV-MPIDNgIUJUg
SUMMARY:Don't Blink | An Interactive Preschool Class Meeting
END:VEVENT
END:VCALENDAR
