BEGIN:VCALENDAR
VERSION:2.0
PRODID:-//midwestchildcare.org//NONSGML kigkonsult.se iCalcreator 2.30.10//
CALSCALE:GREGORIAN
METHOD:PUBLISH
UID:ecd6ba2c-286a-4a3f-8036-38a0df26ffc3
X-WR-CALDESC:Class Number:	\n33204321\n\nClass Type:	\nClassroom Training\n\n
 Description:	\nHSI Pediatric First Aid | CPR AED Child/Infant/Adult (2020)
 \n\nLocation:	\n7701 Pacific St Ste 200\nOmaha\, NE 68114\n\nDate/Time:	\n11
 /20/2025\, 6:00 PM - 10:00 PM\n\nRemaining Seats:	\n99\n\nCPR/AED/FA Full I
 n-Person Class\; Emails with class info sent out 3-5 days prior to class
X-WR-RELCALID:ec8bc020ac4b7f19d6efb3b04603e6a2
X-WR-TIMEZONE:America/Chicago
BEGIN:VTIMEZONE
TZID:America/Chicago
BEGIN:STANDARD
TZNAME:CST
DTSTART:20251102T020000
TZOFFSETFROM:-0500
TZOFFSETTO:-0600
RDATE:20261101T020000
END:STANDARD
BEGIN:DAYLIGHT
TZNAME:CDT
DTSTART:20250309T020000
TZOFFSETFROM:-0600
TZOFFSETTO:-0500
RDATE:20260308T020000
RDATE:20270314T020000
END:DAYLIGHT
END:VTIMEZONE
BEGIN:VEVENT
UID:a66cba13-5e8f-4e75-805b-66b634d90dd2
DTSTAMP:20260420T103536Z
DESCRIPTION:Class Number:	\n33204321\n\nClass Type:	\nClassroom Training\n\nD
 escription:	\nHSI Pediatric First Aid | CPR AED Child/Infant/Adult (2020)\n
 \nLocation:	\n7701 Pacific St Ste 200\nOmaha\, NE 68114\n\nDate/Time:	\n11/2
 0/2025\, 6:00 PM - 10:00 PM\n\nRemaining Seats:	\n99\n\nCPR/AED/FA Full In-
 Person Class\; Emails with class info sent out 3-5 days prior to class
DTSTART;TZID=America/Chicago:20251126T180000
DTEND;TZID=America/Chicago:20251126T220000
LOCATION:https://otis.osmanager4.com/#/openEnrollment?co=1&cid=4121505
SUMMARY:HSI Pediatric First Aid | CPR AED Child/Infant/Adult (2020)
END:VEVENT
END:VCALENDAR
