BEGIN:VCALENDAR
VERSION:2.0
PRODID:-//midwestchildcare.org//NONSGML kigkonsult.se iCalcreator 2.30.10//
CALSCALE:GREGORIAN
METHOD:PUBLISH
UID:4f9028cd-ef23-4bb5-81b5-945cd850d349
X-WR-CALDESC:Winter Food and Activity Ideas | IN-PERSON \n\n4-Hour\, IN-PER
 SON  training\, held at MIDWEST CHILD CARE located at 7701 Pacific St\, Su
 ite 200\n\n1. Please register for IN-PERSON Winter Food and Activity Ideas
  on Nov 15\, 2025 9:00 AM- 1 PM CST at:\n\nhttps://attendee.gotowebinar.co
 m/register/4290554306673529690\n\nAfter registering\, you will receive a c
 onfirmation email containing information about joining the webinar.\n*** N
 ote\, although the registration is through GoToWebinar\, this is an IN-PER
 SON training
X-WR-RELCALID:170e1920cbaf8604740fc21ef4f12843
X-WR-TIMEZONE:America/Chicago
BEGIN:VTIMEZONE
TZID:America/Chicago
BEGIN:STANDARD
TZNAME:CST
DTSTART:20251102T020000
TZOFFSETFROM:-0500
TZOFFSETTO:-0600
RDATE:20261101T020000
END:STANDARD
BEGIN:DAYLIGHT
TZNAME:CDT
DTSTART:20250309T020000
TZOFFSETFROM:-0600
TZOFFSETTO:-0500
RDATE:20260308T020000
RDATE:20270314T020000
END:DAYLIGHT
END:VTIMEZONE
BEGIN:VEVENT
UID:0a7af24f-4656-4867-b2f2-9461502a2dc1
DTSTAMP:20260420T102806Z
DESCRIPTION:Winter Food and Activity Ideas | IN-PERSON \n\n4-Hour\, IN-PERS
 ON  training\, held at MIDWEST CHILD CARE located at 7701 Pacific St\, Sui
 te 200\n\n1. Please register for IN-PERSON Winter Food and Activity Ideas 
 on Nov 15\, 2025 9:00 AM- 1 PM CST at:\n\nhttps://attendee.gotowebinar.com
 /register/4290554306673529690\n\nAfter registering\, you will receive a co
 nfirmation email containing information about joining the webinar.\n*** No
 te\, although the registration is through GoToWebinar\, this is an IN-PERS
 ON training
DTSTART;TZID=America/Chicago:20251115T090000
DTEND;TZID=America/Chicago:20251115T130000
LOCATION:https://attendee.gotowebinar.com/register/4290554306673529690
SUMMARY:Winter Food and Activity Ideas | IN-PERSON
END:VEVENT
END:VCALENDAR
