BEGIN:VCALENDAR
VERSION:2.0
PRODID:-//midwestchildcare.org//NONSGML kigkonsult.se iCalcreator 2.30.10//
CALSCALE:GREGORIAN
METHOD:PUBLISH
UID:aa9bb9eb-2e91-4d6e-86b0-005431823747
X-WR-CALDESC:A Unicorn on a Unicycle | An Interactive Preschool Class\n\nYo
 u are invited to a Zoom meeting.\nWhen: Nov 13\, 2025 10:00 AM Central Tim
 e (US and Canada)\n\nRegister in advance for this meeting:\nhttps://us02we
 b.zoom.us/meeting/register/UoMAf5wlRCyNxfEQ0wtGkQ
X-WR-RELCALID:5ab30cff03754a2678cb29c456429e76
X-WR-TIMEZONE:America/Chicago
BEGIN:VTIMEZONE
TZID:America/Chicago
BEGIN:STANDARD
TZNAME:CST
DTSTART:20251102T020000
TZOFFSETFROM:-0500
TZOFFSETTO:-0600
RDATE:20261101T020000
END:STANDARD
BEGIN:DAYLIGHT
TZNAME:CDT
DTSTART:20250309T020000
TZOFFSETFROM:-0600
TZOFFSETTO:-0500
RDATE:20260308T020000
RDATE:20270314T020000
END:DAYLIGHT
END:VTIMEZONE
BEGIN:VEVENT
UID:6e008ecc-7ddb-482f-aed5-8e25c769ebb2
DTSTAMP:20260420T103759Z
DESCRIPTION:A Unicorn on a Unicycle | An Interactive Preschool Class\n\nYou
  are invited to a Zoom meeting.\nWhen: Nov 13\, 2025 10:00 AM Central Time
  (US and Canada)\n\nRegister in advance for this meeting:\nhttps://us02web
 .zoom.us/meeting/register/UoMAf5wlRCyNxfEQ0wtGkQ
DTSTART;TZID=America/Chicago:20251113T100000
DTEND;TZID=America/Chicago:20251113T103000
LOCATION:https://us02web.zoom.us/meeting/register/UoMAf5wlRCyNxfEQ0wtGkQ
SUMMARY:A Unicorn on a Unicycle | An Interactive Preschool Class
END:VEVENT
END:VCALENDAR
