BEGIN:VCALENDAR
VERSION:2.0
PRODID:-//midwestchildcare.org//NONSGML kigkonsult.se iCalcreator 2.30.10//
CALSCALE:GREGORIAN
METHOD:PUBLISH
UID:5291abd2-bbf2-4f9d-a38e-1cd64ea8392c
X-WR-CALDESC:A Unicorn on a Unicycle | An Interactive Preschool Class\n\nYo
 u are invited to a Zoom meeting.\nWhen: Nov 13\, 2025 09:00 AM Central Tim
 e (US and Canada)\n\nRegister in advance for this meeting:\nhttps://us02we
 b.zoom.us/meeting/register/Rw6L6xHmTpepjHwbpULOiQ
X-WR-RELCALID:86391d7db8ae2baf30d6c3971bfa7779
X-WR-TIMEZONE:America/Chicago
BEGIN:VTIMEZONE
TZID:America/Chicago
BEGIN:STANDARD
TZNAME:CST
DTSTART:20251102T020000
TZOFFSETFROM:-0500
TZOFFSETTO:-0600
RDATE:20261101T020000
END:STANDARD
BEGIN:DAYLIGHT
TZNAME:CDT
DTSTART:20250309T020000
TZOFFSETFROM:-0600
TZOFFSETTO:-0500
RDATE:20260308T020000
RDATE:20270314T020000
END:DAYLIGHT
END:VTIMEZONE
BEGIN:VEVENT
UID:edcef7c8-fb6a-4069-ba29-1078f308988b
DTSTAMP:20260420T104545Z
DESCRIPTION:A Unicorn on a Unicycle | An Interactive Preschool Class\n\nYou
  are invited to a Zoom meeting.\nWhen: Nov 13\, 2025 09:00 AM Central Time
  (US and Canada)\n\nRegister in advance for this meeting:\nhttps://us02web
 .zoom.us/meeting/register/Rw6L6xHmTpepjHwbpULOiQ
DTSTART;TZID=America/Chicago:20251113T090000
DTEND;TZID=America/Chicago:20251113T093000
LOCATION:https://us02web.zoom.us/meeting/register/Rw6L6xHmTpepjHwbpULOiQ
SUMMARY:A Unicorn on a Unicycle | An Interactive Preschool Class
END:VEVENT
END:VCALENDAR
