BEGIN:VCALENDAR
VERSION:2.0
PRODID:-//midwestchildcare.org//NONSGML kigkonsult.se iCalcreator 2.30.10//
CALSCALE:GREGORIAN
METHOD:PUBLISH
UID:d99c7410-fcfc-4677-aa26-e035675d5383
X-WR-CALDESC:Nose to Toes\, You are Yummy! | An Interactive Preschool Class
 \n\nYou are invited to a Zoom meeting.\nWhen: Nov 6\, 2025 10:00 AM Centra
 l Time (US and Canada)\n\nRegister in advance for this meeting:\nhttps://u
 s02web.zoom.us/meeting/register/DUja_2GyT-6JvhzMVGw9RQ
X-WR-RELCALID:d8202e9d1f32e32abcda5f8b5ce0dfd3
X-WR-TIMEZONE:America/Chicago
BEGIN:VTIMEZONE
TZID:America/Chicago
BEGIN:STANDARD
TZNAME:CST
DTSTART:20251102T020000
TZOFFSETFROM:-0500
TZOFFSETTO:-0600
RDATE:20261101T020000
END:STANDARD
BEGIN:DAYLIGHT
TZNAME:CDT
DTSTART:20250309T020000
TZOFFSETFROM:-0600
TZOFFSETTO:-0500
RDATE:20260308T020000
RDATE:20270314T020000
END:DAYLIGHT
END:VTIMEZONE
BEGIN:VEVENT
UID:320833d9-7fe9-4ab4-90f0-f97ae66718de
DTSTAMP:20260420T104919Z
DESCRIPTION:Nose to Toes\, You are Yummy! | An Interactive Preschool Class
 \n\nYou are invited to a Zoom meeting.\nWhen: Nov 6\, 2025 10:00 AM Centra
 l Time (US and Canada)\n\nRegister in advance for this meeting:\nhttps://u
 s02web.zoom.us/meeting/register/DUja_2GyT-6JvhzMVGw9RQ
DTSTART;TZID=America/Chicago:20251106T100000
DTEND;TZID=America/Chicago:20251106T103000
LOCATION:https://us02web.zoom.us/meeting/register/DUja_2GyT-6JvhzMVGw9RQ
SUMMARY:Nose to Toes\, You are Yummy! | An Interactive Preschool Class
END:VEVENT
END:VCALENDAR
