BEGIN:VCALENDAR
VERSION:2.0
PRODID:-//midwestchildcare.org//NONSGML kigkonsult.se iCalcreator 2.30.10//
CALSCALE:GREGORIAN
METHOD:PUBLISH
UID:28152b07-7557-45e7-aa7a-e488fdb4c352
X-WR-CALDESC:Nose to Toes\, You are Yummy! | An Interactive Preschool Class
 \n\nYou are invited to a Zoom meeting.\nWhen: Nov 6\, 2025 09:30 AM Centra
 l Time (US and Canada)\n\nRegister in advance for this meeting:\nhttps://u
 s02web.zoom.us/meeting/register/Ypag_CJaQVq3Azwei7TglQ
X-WR-RELCALID:6aed0dfb72167349219d075a550856f4
X-WR-TIMEZONE:America/Chicago
BEGIN:VTIMEZONE
TZID:America/Chicago
BEGIN:STANDARD
TZNAME:CST
DTSTART:20251102T020000
TZOFFSETFROM:-0500
TZOFFSETTO:-0600
RDATE:20261101T020000
END:STANDARD
BEGIN:DAYLIGHT
TZNAME:CDT
DTSTART:20250309T020000
TZOFFSETFROM:-0600
TZOFFSETTO:-0500
RDATE:20260308T020000
RDATE:20270314T020000
END:DAYLIGHT
END:VTIMEZONE
BEGIN:VEVENT
UID:b438484f-ca7d-43f1-9551-35a441d3a37d
DTSTAMP:20260420T103501Z
DESCRIPTION:Nose to Toes\, You are Yummy! | An Interactive Preschool Class
 \n\nYou are invited to a Zoom meeting.\nWhen: Nov 6\, 2025 09:30 AM Centra
 l Time (US and Canada)\n\nRegister in advance for this meeting:\nhttps://u
 s02web.zoom.us/meeting/register/Ypag_CJaQVq3Azwei7TglQ
DTSTART;TZID=America/Chicago:20251106T093000
DTEND;TZID=America/Chicago:20251106T100000
LOCATION:https://us02web.zoom.us/meeting/register/Ypag_CJaQVq3Azwei7TglQ
SUMMARY:Nose to Toes\, You are Yummy! | An Interactive Preschool Class
END:VEVENT
END:VCALENDAR
