BEGIN:VCALENDAR
VERSION:2.0
PRODID:-//midwestchildcare.org//NONSGML kigkonsult.se iCalcreator 2.30.10//
CALSCALE:GREGORIAN
METHOD:PUBLISH
UID:80bd30a0-17cc-4687-94ba-28518a66a48f
X-WR-CALDESC:Nose to Toes\, You are Yummy! | An Interactive Preschool Class
 \n\nYou are invited to a Zoom meeting.\nWhen: Nov 6\, 2025 09:00 AM Centra
 l Time (US and Canada)\n\nRegister in advance for this meeting:\nhttps://u
 s02web.zoom.us/meeting/register/3RDJXhNuSVa5JyUmpvR_qA
X-WR-RELCALID:8a812097b71f3e29ec914b6c734a451c
X-WR-TIMEZONE:America/Chicago
BEGIN:VTIMEZONE
TZID:America/Chicago
BEGIN:STANDARD
TZNAME:CST
DTSTART:20251102T020000
TZOFFSETFROM:-0500
TZOFFSETTO:-0600
RDATE:20261101T020000
END:STANDARD
BEGIN:DAYLIGHT
TZNAME:CDT
DTSTART:20250309T020000
TZOFFSETFROM:-0600
TZOFFSETTO:-0500
RDATE:20260308T020000
RDATE:20270314T020000
END:DAYLIGHT
END:VTIMEZONE
BEGIN:VEVENT
UID:ec64a7d6-8914-4e64-86b8-7bc4b093b3f5
DTSTAMP:20260420T102905Z
DESCRIPTION:Nose to Toes\, You are Yummy! | An Interactive Preschool Class
 \n\nYou are invited to a Zoom meeting.\nWhen: Nov 6\, 2025 09:00 AM Centra
 l Time (US and Canada)\n\nRegister in advance for this meeting:\nhttps://u
 s02web.zoom.us/meeting/register/3RDJXhNuSVa5JyUmpvR_qA
DTSTART;TZID=America/Chicago:20251106T090000
DTEND;TZID=America/Chicago:20251106T093000
LOCATION:https://us02web.zoom.us/meeting/register/3RDJXhNuSVa5JyUmpvR_qA
SUMMARY:Nose to Toes\, You are Yummy! | An Interactive Preschool Class
END:VEVENT
END:VCALENDAR
