BEGIN:VCALENDAR
VERSION:2.0
PRODID:-//midwestchildcare.org//NONSGML kigkonsult.se iCalcreator 2.30.10//
CALSCALE:GREGORIAN
METHOD:PUBLISH
UID:e1c9025e-2d8f-480c-8b10-07fff08c3c99
X-WR-CALDESC:Class Number:	\n33204316\n\nClass Type:	\nClassroom Training\n\n
 Description:	\nHSI Pediatric First Aid | CPR AED Child/Infant/Adult (2020)
 \n\nLocation:	\n7701 Pacific St Ste 200\nOmaha\, NE 68114\n\nDate/Time:	\n11
 /06/2025\, 6:00 PM - 8:00 PM\n\nRemaining Seats:	\n99\n\nZoom *Renewal* 11/
 6 (6 to 8 PM) & Hands On Portion By Appointment\; Zoom Link & Class Detail
 s emailed 3-5 days prior to class
X-WR-RELCALID:cf9ecc7a13ba668132d4a660b22050f6
X-WR-TIMEZONE:America/Chicago
BEGIN:VTIMEZONE
TZID:America/Chicago
BEGIN:STANDARD
TZNAME:CST
DTSTART:20251102T020000
TZOFFSETFROM:-0500
TZOFFSETTO:-0600
RDATE:20261101T020000
END:STANDARD
BEGIN:DAYLIGHT
TZNAME:CDT
DTSTART:20250309T020000
TZOFFSETFROM:-0600
TZOFFSETTO:-0500
RDATE:20260308T020000
RDATE:20270314T020000
END:DAYLIGHT
END:VTIMEZONE
BEGIN:VEVENT
UID:94de4065-990e-4e65-8165-2443a515227a
DTSTAMP:20260420T110207Z
DESCRIPTION:Class Number:	\n33204316\n\nClass Type:	\nClassroom Training\n\nD
 escription:	\nHSI Pediatric First Aid | CPR AED Child/Infant/Adult (2020)\n
 \nLocation:	\n7701 Pacific St Ste 200\nOmaha\, NE 68114\n\nDate/Time:	\n11/0
 6/2025\, 6:00 PM - 8:00 PM\n\nRemaining Seats:	\n99\n\nZoom *Renewal* 11/6 
 (6 to 8 PM) & Hands On Portion By Appointment\; Zoom Link & Class Details 
 emailed 3-5 days prior to class
DTSTART;TZID=America/Chicago:20251106T180000
DTEND;TZID=America/Chicago:20251106T200000
LOCATION:https://otis.osmanager4.com/#/openEnrollment?co=1&cid=4114001
SUMMARY:HSI Pediatric First Aid | CPR AED Child/Infant/Adult (2020)
END:VEVENT
END:VCALENDAR
