BEGIN:VCALENDAR
VERSION:2.0
PRODID:-//midwestchildcare.org//NONSGML kigkonsult.se iCalcreator 2.30.10//
CALSCALE:GREGORIAN
METHOD:PUBLISH
UID:3dc625cb-73d3-4bb1-aacb-b1a55245a4c2
X-WR-CALDESC:There's a Monster in Your Book | An Interactive Preschool Clas
 s\n\nYou are invited to a Zoom meeting.\nWhen: Oct 30\, 2025 10:00 AM Cent
 ral Time (US and Canada)\n\nRegister in advance for this meeting:\nhttps:/
 /us02web.zoom.us/meeting/register/XdKZkm1OR0ONP4FTl92WdA
X-WR-RELCALID:b446f0a369738073277ae9937861ddab
X-WR-TIMEZONE:America/Chicago
BEGIN:VTIMEZONE
TZID:America/Chicago
BEGIN:STANDARD
TZNAME:CST
DTSTART:20241103T020000
TZOFFSETFROM:-0500
TZOFFSETTO:-0600
RDATE:20251102T020000
RDATE:20261101T020000
END:STANDARD
BEGIN:DAYLIGHT
TZNAME:CDT
DTSTART:20250309T020000
TZOFFSETFROM:-0600
TZOFFSETTO:-0500
RDATE:20260308T020000
RDATE:20270314T020000
END:DAYLIGHT
END:VTIMEZONE
BEGIN:VEVENT
UID:a9a93ce5-b8a0-463d-9a7b-db62c8c1e0cd
DTSTAMP:20260420T125112Z
DESCRIPTION:There's a Monster in Your Book | An Interactive Preschool Class
 \n\nYou are invited to a Zoom meeting.\nWhen: Oct 30\, 2025 10:00 AM Centr
 al Time (US and Canada)\n\nRegister in advance for this meeting:\nhttps://
 us02web.zoom.us/meeting/register/XdKZkm1OR0ONP4FTl92WdA
DTSTART;TZID=America/Chicago:20251030T100000
DTEND;TZID=America/Chicago:20251030T103000
LOCATION:https://us02web.zoom.us/meeting/register/XdKZkm1OR0ONP4FTl92WdA
SUMMARY:There's a Monster in Your Book | An Interactive Preschool Class
END:VEVENT
END:VCALENDAR
