BEGIN:VCALENDAR
VERSION:2.0
PRODID:-//midwestchildcare.org//NONSGML kigkonsult.se iCalcreator 2.30.10//
CALSCALE:GREGORIAN
METHOD:PUBLISH
UID:7620048e-ba42-460f-9b7f-dd449b730ad2
X-WR-CALDESC:There's a Monster in Your Book | An Interactive Preschool Clas
 s\n\nYou are invited to a Zoom meeting.\nWhen: Oct 30\, 2025 09:30 AM Cent
 ral Time (US and Canada)\n\nRegister in advance for this meeting:\nhttps:/
 /us02web.zoom.us/meeting/register/q53WwxVCQd-sbTvwt2vaPg
X-WR-RELCALID:46050cb73e37a972dd3fe10d54867c68
X-WR-TIMEZONE:America/Chicago
BEGIN:VTIMEZONE
TZID:America/Chicago
BEGIN:STANDARD
TZNAME:CST
DTSTART:20241103T020000
TZOFFSETFROM:-0500
TZOFFSETTO:-0600
RDATE:20251102T020000
RDATE:20261101T020000
END:STANDARD
BEGIN:DAYLIGHT
TZNAME:CDT
DTSTART:20250309T020000
TZOFFSETFROM:-0600
TZOFFSETTO:-0500
RDATE:20260308T020000
RDATE:20270314T020000
END:DAYLIGHT
END:VTIMEZONE
BEGIN:VEVENT
UID:4b88bd26-2576-4d57-a6c5-632c9f0d6fb7
DTSTAMP:20260420T125039Z
DESCRIPTION:There's a Monster in Your Book | An Interactive Preschool Class
 \n\nYou are invited to a Zoom meeting.\nWhen: Oct 30\, 2025 09:30 AM Centr
 al Time (US and Canada)\n\nRegister in advance for this meeting:\nhttps://
 us02web.zoom.us/meeting/register/q53WwxVCQd-sbTvwt2vaPg
DTSTART;TZID=America/Chicago:20251030T093000
DTEND;TZID=America/Chicago:20251030T100000
LOCATION:https://us02web.zoom.us/meeting/register/q53WwxVCQd-sbTvwt2vaPg
SUMMARY:There's a Monster in Your Book | An Interactive Preschool Class
END:VEVENT
END:VCALENDAR
