BEGIN:VCALENDAR
VERSION:2.0
PRODID:-//midwestchildcare.org//NONSGML kigkonsult.se iCalcreator 2.30.10//
CALSCALE:GREGORIAN
METHOD:PUBLISH
UID:aaa0d0a3-d82c-45d3-84b5-dbad5edd4ff2
X-WR-CALDESC:There's a Monster in Your Book | An Interactive Preschool Clas
 s\n\nYou are invited to a Zoom meeting.\nWhen: Oct 30\, 2025 09:00 AM Cent
 ral Time (US and Canada)\n\nRegister in advance for this meeting:\nhttps:/
 /us02web.zoom.us/meeting/register/X_MB7I1YSF6ymOpSv9uNOw
X-WR-RELCALID:d494e07a20c4e0402ec706263442a29b
X-WR-TIMEZONE:America/Chicago
BEGIN:VTIMEZONE
TZID:America/Chicago
BEGIN:STANDARD
TZNAME:CST
DTSTART:20241103T020000
TZOFFSETFROM:-0500
TZOFFSETTO:-0600
RDATE:20251102T020000
RDATE:20261101T020000
END:STANDARD
BEGIN:DAYLIGHT
TZNAME:CDT
DTSTART:20250309T020000
TZOFFSETFROM:-0600
TZOFFSETTO:-0500
RDATE:20260308T020000
RDATE:20270314T020000
END:DAYLIGHT
END:VTIMEZONE
BEGIN:VEVENT
UID:b84edf8b-9cb2-4c59-b9c6-0f7924ad6ffd
DTSTAMP:20260420T124126Z
DESCRIPTION:There's a Monster in Your Book | An Interactive Preschool Class
 \n\nYou are invited to a Zoom meeting.\nWhen: Oct 30\, 2025 09:00 AM Centr
 al Time (US and Canada)\n\nRegister in advance for this meeting:\nhttps://
 us02web.zoom.us/meeting/register/X_MB7I1YSF6ymOpSv9uNOw
DTSTART;TZID=America/Chicago:20251030T090000
DTEND;TZID=America/Chicago:20251030T093000
LOCATION:https://us02web.zoom.us/meeting/register/X_MB7I1YSF6ymOpSv9uNOw
SUMMARY:There's a Monster in Your Book | An Interactive Preschool Class
END:VEVENT
END:VCALENDAR
