BEGIN:VCALENDAR
VERSION:2.0
PRODID:-//midwestchildcare.org//NONSGML kigkonsult.se iCalcreator 2.30.10//
CALSCALE:GREGORIAN
METHOD:PUBLISH
UID:d0e2626c-a100-4e9a-b721-01ffb250f1ad
X-WR-CALDESC:Health Benefits of Fiber | 1-Hour Webinar\n\nPlease register f
 or Health Benefits of Fiber on Oct 30\, 2025 1:00 PM CDT at:\n\nhttps://at
 tendee.gotowebinar.com/register/2795644003896263776\n\nAfter registering\,
  you will receive a confirmation email containing information about joinin
 g the webinar.
X-WR-RELCALID:bb6e2688476469c5eae0e7407fde0774
X-WR-TIMEZONE:America/Chicago
BEGIN:VTIMEZONE
TZID:America/Chicago
BEGIN:STANDARD
TZNAME:CST
DTSTART:20241103T020000
TZOFFSETFROM:-0500
TZOFFSETTO:-0600
RDATE:20251102T020000
RDATE:20261101T020000
END:STANDARD
BEGIN:DAYLIGHT
TZNAME:CDT
DTSTART:20250309T020000
TZOFFSETFROM:-0600
TZOFFSETTO:-0500
RDATE:20260308T020000
RDATE:20270314T020000
END:DAYLIGHT
END:VTIMEZONE
BEGIN:VEVENT
UID:6b4d4f9e-3ef7-428b-9f32-5886d9f45f4f
DTSTAMP:20260422T085232Z
DESCRIPTION:Health Benefits of Fiber | 1-Hour Webinar\n\nPlease register fo
 r Health Benefits of Fiber on Oct 30\, 2025 1:00 PM CDT at:\n\nhttps://att
 endee.gotowebinar.com/register/2795644003896263776\n\nAfter registering\, 
 you will receive a confirmation email containing information about joining
  the webinar.
DTSTART;TZID=America/Chicago:20251028T190000
DTEND;TZID=America/Chicago:20251028T200000
LOCATION:https://attendee.gotowebinar.com/register/2795644003896263776
SUMMARY:Health Benefits of Fiber | 1-Hour Webinar
END:VEVENT
END:VCALENDAR
