BEGIN:VCALENDAR
VERSION:2.0
PRODID:-//midwestchildcare.org//NONSGML kigkonsult.se iCalcreator 2.30.10//
CALSCALE:GREGORIAN
METHOD:PUBLISH
UID:d038498d-9194-4112-a62d-e67f947259a7
X-WR-CALDESC:We’re Going on a Leaf Hunt | An Interactive Preschool Class\n
 \nYou are invited to a Zoom meeting.\nWhen: Oct 23\, 2025 10:00 AM Central
  Time (US and Canada)\n\nRegister in advance for this meeting:\nhttps://us
 02web.zoom.us/meeting/register/6bp0rn5ZSGCEogq3-n1epg
X-WR-RELCALID:381429f243b194ae0a99157218f5c107
X-WR-TIMEZONE:America/Chicago
BEGIN:VTIMEZONE
TZID:America/Chicago
BEGIN:STANDARD
TZNAME:CST
DTSTART:20241103T020000
TZOFFSETFROM:-0500
TZOFFSETTO:-0600
RDATE:20251102T020000
RDATE:20261101T020000
END:STANDARD
BEGIN:DAYLIGHT
TZNAME:CDT
DTSTART:20250309T020000
TZOFFSETFROM:-0600
TZOFFSETTO:-0500
RDATE:20260308T020000
RDATE:20270314T020000
END:DAYLIGHT
END:VTIMEZONE
BEGIN:VEVENT
UID:3569020a-5dbd-47ca-a564-1ac172710be4
DTSTAMP:20260420T124714Z
DESCRIPTION:We’re Going on a Leaf Hunt | An Interactive Preschool Class\n\n
 You are invited to a Zoom meeting.\nWhen: Oct 23\, 2025 10:00 AM Central T
 ime (US and Canada)\n\nRegister in advance for this meeting:\nhttps://us02
 web.zoom.us/meeting/register/6bp0rn5ZSGCEogq3-n1epg
DTSTART;TZID=America/Chicago:20251023T100000
DTEND;TZID=America/Chicago:20251023T103000
LOCATION:https://us02web.zoom.us/meeting/register/6bp0rn5ZSGCEogq3-n1epg
SUMMARY:We’re Going on a Leaf Hunt | An Interactive Preschool Class
END:VEVENT
END:VCALENDAR
