BEGIN:VCALENDAR
VERSION:2.0
PRODID:-//midwestchildcare.org//NONSGML kigkonsult.se iCalcreator 2.30.10//
CALSCALE:GREGORIAN
METHOD:PUBLISH
UID:6f687321-1ca3-4a37-9bde-d9137b4fce59
X-WR-CALDESC:We’re Going on a Leaf Hunt | An Interactive Preschool Class\n
 \nYou are invited to a Zoom meeting.\nWhen: Oct 23\, 2025 09:30 AM Central
  Time (US and Canada)\n\nRegister in advance for this meeting:\nhttps://us
 02web.zoom.us/meeting/register/8OqeJwo0TmiZvMnn2-DTTQ
X-WR-RELCALID:6a7e7c777b2081852bb5cb92c5da99f1
X-WR-TIMEZONE:America/Chicago
BEGIN:VTIMEZONE
TZID:America/Chicago
BEGIN:STANDARD
TZNAME:CST
DTSTART:20241103T020000
TZOFFSETFROM:-0500
TZOFFSETTO:-0600
RDATE:20251102T020000
RDATE:20261101T020000
END:STANDARD
BEGIN:DAYLIGHT
TZNAME:CDT
DTSTART:20250309T020000
TZOFFSETFROM:-0600
TZOFFSETTO:-0500
RDATE:20260308T020000
RDATE:20270314T020000
END:DAYLIGHT
END:VTIMEZONE
BEGIN:VEVENT
UID:d2457833-8327-45c7-8510-a3187cf94b04
DTSTAMP:20260420T124126Z
DESCRIPTION:We’re Going on a Leaf Hunt | An Interactive Preschool Class\n\n
 You are invited to a Zoom meeting.\nWhen: Oct 23\, 2025 09:30 AM Central T
 ime (US and Canada)\n\nRegister in advance for this meeting:\nhttps://us02
 web.zoom.us/meeting/register/8OqeJwo0TmiZvMnn2-DTTQ
DTSTART;TZID=America/Chicago:20251023T093000
DTEND;TZID=America/Chicago:20251023T100000
LOCATION:https://us02web.zoom.us/meeting/register/8OqeJwo0TmiZvMnn2-DTTQ
SUMMARY:We’re Going on a Leaf Hunt | An Interactive Preschool Class
END:VEVENT
END:VCALENDAR
