BEGIN:VCALENDAR
VERSION:2.0
PRODID:-//midwestchildcare.org//NONSGML kigkonsult.se iCalcreator 2.30.10//
CALSCALE:GREGORIAN
METHOD:PUBLISH
UID:0c980d44-0bcf-4cb1-97d4-283f7f70a6b3
X-WR-CALDESC:We’re Going on a Leaf Hunt | An Interactive Preschool Class\n
 \nYou are invited to a Zoom meeting.\nWhen: Oct 23\, 2025 09:00 AM Central
  Time (US and Canada)\n\nRegister in advance for this meeting:\nhttps://us
 02web.zoom.us/meeting/register/0VJMgaMdS8WovdP0CPYBow
X-WR-RELCALID:5f7d64c24f9a98f2dfcf8f3e8a0315b7
X-WR-TIMEZONE:America/Chicago
BEGIN:VTIMEZONE
TZID:America/Chicago
BEGIN:STANDARD
TZNAME:CST
DTSTART:20241103T020000
TZOFFSETFROM:-0500
TZOFFSETTO:-0600
RDATE:20251102T020000
RDATE:20261101T020000
END:STANDARD
BEGIN:DAYLIGHT
TZNAME:CDT
DTSTART:20250309T020000
TZOFFSETFROM:-0600
TZOFFSETTO:-0500
RDATE:20260308T020000
RDATE:20270314T020000
END:DAYLIGHT
END:VTIMEZONE
BEGIN:VEVENT
UID:c6093c27-d35e-40b3-a13e-1aabc5db250f
DTSTAMP:20260420T123551Z
DESCRIPTION:We’re Going on a Leaf Hunt | An Interactive Preschool Class\n\n
 You are invited to a Zoom meeting.\nWhen: Oct 23\, 2025 09:00 AM Central T
 ime (US and Canada)\n\nRegister in advance for this meeting:\nhttps://us02
 web.zoom.us/meeting/register/0VJMgaMdS8WovdP0CPYBow
DTSTART;TZID=America/Chicago:20251023T090000
DTEND;TZID=America/Chicago:20251023T093000
LOCATION:https://us02web.zoom.us/meeting/register/0VJMgaMdS8WovdP0CPYBow
SUMMARY:We’re Going on a Leaf Hunt | An Interactive Preschool Class
END:VEVENT
END:VCALENDAR
