BEGIN:VCALENDAR
VERSION:2.0
PRODID:-//midwestchildcare.org//NONSGML kigkonsult.se iCalcreator 2.30.10//
CALSCALE:GREGORIAN
METHOD:PUBLISH
UID:7f098365-572c-48ee-8be1-2bc18c787030
X-WR-CALDESC:What’s Next Door: Step Inside and See! | An Interactive Presch
 ool Class\n\nYou are invited to a Zoom meeting.\nWhen: Oct 16\, 2025 10:00
  AM Central Time (US and Canada)\n\nRegister in advance for this meeting:
 \nhttps://us02web.zoom.us/meeting/register/ai93tXzXTtSuDntyRB46uQ
X-WR-RELCALID:96753cb7eeb6c35a84d7b6967d9377cf
X-WR-TIMEZONE:America/Chicago
BEGIN:VTIMEZONE
TZID:America/Chicago
BEGIN:STANDARD
TZNAME:CST
DTSTART:20241103T020000
TZOFFSETFROM:-0500
TZOFFSETTO:-0600
RDATE:20251102T020000
RDATE:20261101T020000
END:STANDARD
BEGIN:DAYLIGHT
TZNAME:CDT
DTSTART:20250309T020000
TZOFFSETFROM:-0600
TZOFFSETTO:-0500
RDATE:20260308T020000
RDATE:20270314T020000
END:DAYLIGHT
END:VTIMEZONE
BEGIN:VEVENT
UID:2d430437-5cf8-4dc8-a1c0-5b88f941eff9
DTSTAMP:20260420T124944Z
DESCRIPTION:What’s Next Door: Step Inside and See! | An Interactive Prescho
 ol Class\n\nYou are invited to a Zoom meeting.\nWhen: Oct 16\, 2025 10:00 
 AM Central Time (US and Canada)\n\nRegister in advance for this meeting:\n
 https://us02web.zoom.us/meeting/register/ai93tXzXTtSuDntyRB46uQ
DTSTART;TZID=America/Chicago:20251016T100000
DTEND;TZID=America/Chicago:20251016T103000
LOCATION:https://us02web.zoom.us/meeting/register/ai93tXzXTtSuDntyRB46uQ
SUMMARY:What’s Next Door: Step Inside and See! | An Interactive Preschool C
 lass
END:VEVENT
END:VCALENDAR
