BEGIN:VCALENDAR
VERSION:2.0
PRODID:-//midwestchildcare.org//NONSGML kigkonsult.se iCalcreator 2.30.10//
CALSCALE:GREGORIAN
METHOD:PUBLISH
UID:4a9a255c-f120-47eb-a6b0-839759b36b21
X-WR-CALDESC:What’s Next Door: Step Inside and See! | An Interactive Presch
 ool Class\n\nYou are invited to a Zoom meeting.\nWhen: Oct 16\, 2025 09:30
  AM Central Time (US and Canada)\n\nRegister in advance for this meeting:
 \nhttps://us02web.zoom.us/meeting/register/0ylMIwa_SnqQtFhRnsZEag
X-WR-RELCALID:72223a0d2ed7f5c89df24c037c1b5398
X-WR-TIMEZONE:America/Chicago
BEGIN:VTIMEZONE
TZID:America/Chicago
BEGIN:STANDARD
TZNAME:CST
DTSTART:20241103T020000
TZOFFSETFROM:-0500
TZOFFSETTO:-0600
RDATE:20251102T020000
RDATE:20261101T020000
END:STANDARD
BEGIN:DAYLIGHT
TZNAME:CDT
DTSTART:20250309T020000
TZOFFSETFROM:-0600
TZOFFSETTO:-0500
RDATE:20260308T020000
RDATE:20270314T020000
END:DAYLIGHT
END:VTIMEZONE
BEGIN:VEVENT
UID:a3115722-648a-474c-959b-4bc615de69d7
DTSTAMP:20260420T125012Z
DESCRIPTION:What’s Next Door: Step Inside and See! | An Interactive Prescho
 ol Class\n\nYou are invited to a Zoom meeting.\nWhen: Oct 16\, 2025 09:30 
 AM Central Time (US and Canada)\n\nRegister in advance for this meeting:\n
 https://us02web.zoom.us/meeting/register/0ylMIwa_SnqQtFhRnsZEag
DTSTART;TZID=America/Chicago:20251016T093000
DTEND;TZID=America/Chicago:20251016T100000
LOCATION:https://us02web.zoom.us/meeting/register/0ylMIwa_SnqQtFhRnsZEag
SUMMARY:What’s Next Door: Step Inside and See! | An Interactive Preschool C
 lass
END:VEVENT
END:VCALENDAR
