BEGIN:VCALENDAR
VERSION:2.0
PRODID:-//midwestchildcare.org//NONSGML kigkonsult.se iCalcreator 2.30.10//
CALSCALE:GREGORIAN
METHOD:PUBLISH
UID:4a131f87-ad6c-4869-8263-6643850b1a73
X-WR-CALDESC:What’s Next Door: Step Inside and See! | An Interactive Presch
 ool Class\n\nYou are invited to a Zoom meeting.\nWhen: Oct 16\, 2025 09:00
  AM Central Time (US and Canada)\n\nRegister in advance for this meeting:
 \nhttps://us02web.zoom.us/meeting/register/4yFkFiB5RY6ttRHp1ZsBNQ
X-WR-RELCALID:7450d4ec115cf7155084e3ce1c53e2a6
X-WR-TIMEZONE:America/Chicago
BEGIN:VTIMEZONE
TZID:America/Chicago
BEGIN:STANDARD
TZNAME:CST
DTSTART:20241103T020000
TZOFFSETFROM:-0500
TZOFFSETTO:-0600
RDATE:20251102T020000
RDATE:20261101T020000
END:STANDARD
BEGIN:DAYLIGHT
TZNAME:CDT
DTSTART:20250309T020000
TZOFFSETFROM:-0600
TZOFFSETTO:-0500
RDATE:20260308T020000
RDATE:20270314T020000
END:DAYLIGHT
END:VTIMEZONE
BEGIN:VEVENT
UID:785637d0-0ddd-448a-bd2c-32f220fa4028
DTSTAMP:20260420T125001Z
DESCRIPTION:What’s Next Door: Step Inside and See! | An Interactive Prescho
 ol Class\n\nYou are invited to a Zoom meeting.\nWhen: Oct 16\, 2025 09:00 
 AM Central Time (US and Canada)\n\nRegister in advance for this meeting:\n
 https://us02web.zoom.us/meeting/register/4yFkFiB5RY6ttRHp1ZsBNQ
DTSTART;TZID=America/Chicago:20251016T090000
DTEND;TZID=America/Chicago:20251016T093000
LOCATION:https://us02web.zoom.us/meeting/register/4yFkFiB5RY6ttRHp1ZsBNQ
SUMMARY:What’s Next Door: Step Inside and See! | An Interactive Preschool C
 lass
END:VEVENT
END:VCALENDAR
