BEGIN:VCALENDAR
VERSION:2.0
PRODID:-//midwestchildcare.org//NONSGML kigkonsult.se iCalcreator 2.30.10//
CALSCALE:GREGORIAN
METHOD:PUBLISH
UID:b3c5e9ef-cc04-4422-a123-19e5e3485ffc
X-WR-CALDESC:Dancing Feet | An Interactive Preschool Class\n\nYou are invit
 ed to a Zoom meeting.\nWhen: Oct 9\, 2025 09:30 AM Central Time (US and Ca
 nada)\n\nRegister in advance for this meeting:\nhttps://us02web.zoom.us/me
 eting/register/-sMu4SzcSviXkiDfdDnNYw
X-WR-RELCALID:cd72922a7db11740ff30bffcafe4f687
X-WR-TIMEZONE:America/Chicago
BEGIN:VTIMEZONE
TZID:America/Chicago
BEGIN:STANDARD
TZNAME:CST
DTSTART:20241103T020000
TZOFFSETFROM:-0500
TZOFFSETTO:-0600
RDATE:20251102T020000
RDATE:20261101T020000
END:STANDARD
BEGIN:DAYLIGHT
TZNAME:CDT
DTSTART:20250309T020000
TZOFFSETFROM:-0600
TZOFFSETTO:-0500
RDATE:20260308T020000
RDATE:20270314T020000
END:DAYLIGHT
END:VTIMEZONE
BEGIN:VEVENT
UID:125ea964-455a-43d0-a297-4994617da9c3
DTSTAMP:20260420T124510Z
DESCRIPTION:Dancing Feet | An Interactive Preschool Class\n\nYou are invite
 d to a Zoom meeting.\nWhen: Oct 9\, 2025 09:30 AM Central Time (US and Can
 ada)\n\nRegister in advance for this meeting:\nhttps://us02web.zoom.us/mee
 ting/register/-sMu4SzcSviXkiDfdDnNYw
DTSTART;TZID=America/Chicago:20251009T093000
DTEND;TZID=America/Chicago:20251009T100000
LOCATION:https://us02web.zoom.us/meeting/register/-sMu4SzcSviXkiDfdDnNYw
SUMMARY:Dancing Feet | An Interactive Preschool Class
END:VEVENT
END:VCALENDAR
