BEGIN:VCALENDAR
VERSION:2.0
PRODID:-//midwestchildcare.org//NONSGML kigkonsult.se iCalcreator 2.30.10//
CALSCALE:GREGORIAN
METHOD:PUBLISH
UID:a18a16ee-b4e2-4841-81fb-fcf3b2f64ab0
X-WR-CALDESC:Dancing Feet | An Interactive Preschool Class\n\nYou are invit
 ed to a Zoom meeting.\nWhen: Oct 9\, 2025 09:00 AM Central Time (US and Ca
 nada)\n\nRegister in advance for this meeting:\nhttps://us02web.zoom.us/me
 eting/register/I4NTYD0IRe-18kYIhfJW5w
X-WR-RELCALID:660e562c30727fa47827993497ffe02b
X-WR-TIMEZONE:America/Chicago
BEGIN:VTIMEZONE
TZID:America/Chicago
BEGIN:STANDARD
TZNAME:CST
DTSTART:20241103T020000
TZOFFSETFROM:-0500
TZOFFSETTO:-0600
RDATE:20251102T020000
RDATE:20261101T020000
END:STANDARD
BEGIN:DAYLIGHT
TZNAME:CDT
DTSTART:20250309T020000
TZOFFSETFROM:-0600
TZOFFSETTO:-0500
RDATE:20260308T020000
RDATE:20270314T020000
END:DAYLIGHT
END:VTIMEZONE
BEGIN:VEVENT
UID:f09260b4-8706-4068-bef6-81b006a7c050
DTSTAMP:20260420T123917Z
DESCRIPTION:Dancing Feet | An Interactive Preschool Class\n\nYou are invite
 d to a Zoom meeting.\nWhen: Oct 9\, 2025 09:00 AM Central Time (US and Can
 ada)\n\nRegister in advance for this meeting:\nhttps://us02web.zoom.us/mee
 ting/register/I4NTYD0IRe-18kYIhfJW5w
DTSTART;TZID=America/Chicago:20251009T090000
DTEND;TZID=America/Chicago:20251009T093000
LOCATION:https://us02web.zoom.us/meeting/register/I4NTYD0IRe-18kYIhfJW5w
SUMMARY:Dancing Feet | An Interactive Preschool Class
END:VEVENT
END:VCALENDAR
