BEGIN:VCALENDAR
VERSION:2.0
PRODID:-//midwestchildcare.org//NONSGML kigkonsult.se iCalcreator 2.30.10//
CALSCALE:GREGORIAN
METHOD:PUBLISH
UID:03164e09-5bba-4d12-a5ad-e1f4d176b711
X-WR-CALDESC:HSI Pediatric First Aid | CPR AED Child/Infant/Adult (2020)\n
 \nClass Number:	\n33116236\n\nClass Type:	\nClassroom Training\n\nDescriptio
 n:	\nHSI Pediatric First Aid | CPR AED Child/Infant/Adult (2020)\n\nLocatio
 n:	\n7701 Pacific St Ste 200\nOmaha\, NE 68114\n\nDate/Time:	\n10/02/2025\, 
 6:00 PM - 10:00 PM\n\nRemaining Seats:	\n99\n\nZoom 10/2 (6 to 8 PM) *Renew
 al* & Hands On In-Person by Appointment
X-WR-RELCALID:402c7318cefea330b750440af570558f
X-WR-TIMEZONE:America/Chicago
BEGIN:VTIMEZONE
TZID:America/Chicago
BEGIN:STANDARD
TZNAME:CST
DTSTART:20241103T020000
TZOFFSETFROM:-0500
TZOFFSETTO:-0600
RDATE:20251102T020000
RDATE:20261101T020000
END:STANDARD
BEGIN:DAYLIGHT
TZNAME:CDT
DTSTART:20250309T020000
TZOFFSETFROM:-0600
TZOFFSETTO:-0500
RDATE:20260308T020000
RDATE:20270314T020000
END:DAYLIGHT
END:VTIMEZONE
BEGIN:VEVENT
UID:c4624706-b22d-43bc-a87d-975ecc338d4c
DTSTAMP:20260420T123247Z
DESCRIPTION:HSI Pediatric First Aid | CPR AED Child/Infant/Adult (2020)\n\n
 Class Number:	\n33116236\n\nClass Type:	\nClassroom Training\n\nDescription:
 	\nHSI Pediatric First Aid | CPR AED Child/Infant/Adult (2020)\n\nLocation:
 	\n7701 Pacific St Ste 200\nOmaha\, NE 68114\n\nDate/Time:	\n10/02/2025\, 6:
 00 PM - 10:00 PM\n\nRemaining Seats:	\n99\n\nZoom 10/2 (6 to 8 PM) *Renewal
 * & Hands On In-Person by Appointment
DTSTART;TZID=America/Chicago:20251002T180000
DTEND;TZID=America/Chicago:20251002T200000
LOCATION:https://otis.osmanager4.com/#/openEnrollment?co=1&cid=4114000
SUMMARY:HSI Pediatric First Aid | CPR AED Child/Infant/Adult (2020)
END:VEVENT
END:VCALENDAR
