BEGIN:VCALENDAR
VERSION:2.0
PRODID:-//midwestchildcare.org//NONSGML kigkonsult.se iCalcreator 2.30.10//
CALSCALE:GREGORIAN
METHOD:PUBLISH
UID:0b5b97ce-bb1e-442f-ae7b-fa04877fecf7
X-WR-CALDESC:Cat Secret | An Interactive Preschool Class\n\nYou are invited
  to a Zoom meeting.\nWhen: Oct 2\, 2025 10:00 AM Central Time (US and Cana
 da)\n\nRegister in advance for this meeting:\nhttps://us02web.zoom.us/meet
 ing/register/OmQJ0fxGQEWgMyavqXcYeQ
X-WR-RELCALID:25f602cc15c1614aa6431345de7a8ae9
X-WR-TIMEZONE:America/Chicago
BEGIN:VTIMEZONE
TZID:America/Chicago
BEGIN:STANDARD
TZNAME:CST
DTSTART:20241103T020000
TZOFFSETFROM:-0500
TZOFFSETTO:-0600
RDATE:20251102T020000
RDATE:20261101T020000
END:STANDARD
BEGIN:DAYLIGHT
TZNAME:CDT
DTSTART:20250309T020000
TZOFFSETFROM:-0600
TZOFFSETTO:-0500
RDATE:20260308T020000
RDATE:20270314T020000
END:DAYLIGHT
END:VTIMEZONE
BEGIN:VEVENT
UID:0e4e3fbe-c836-4800-be39-9feca709198e
DTSTAMP:20260420T124642Z
DESCRIPTION:Cat Secret | An Interactive Preschool Class\n\nYou are invited 
 to a Zoom meeting.\nWhen: Oct 2\, 2025 10:00 AM Central Time (US and Canad
 a)\n\nRegister in advance for this meeting:\nhttps://us02web.zoom.us/meeti
 ng/register/OmQJ0fxGQEWgMyavqXcYeQ
DTSTART;TZID=America/Chicago:20251002T100000
DTEND;TZID=America/Chicago:20251002T103000
LOCATION:https://us02web.zoom.us/meeting/register/OmQJ0fxGQEWgMyavqXcYeQ
SUMMARY:Cat Secret | An Interactive Preschool Class
END:VEVENT
END:VCALENDAR
