BEGIN:VCALENDAR
VERSION:2.0
PRODID:-//midwestchildcare.org//NONSGML kigkonsult.se iCalcreator 2.30.10//
CALSCALE:GREGORIAN
METHOD:PUBLISH
UID:ce16f82f-9f47-421f-9822-a6c6d55ad198
X-WR-CALDESC:Cat Secret | An Interactive Preschool Class\n\nYou are invited
  to a Zoom meeting.\nWhen: Oct 2\, 2025 09:30 AM Central Time (US and Cana
 da)\n\nRegister in advance for this meeting:\nhttps://us02web.zoom.us/meet
 ing/register/CTOy1hfXSpWtotF6zhGDMA
X-WR-RELCALID:6f2158e52e7faf288c92ae208a403f45
X-WR-TIMEZONE:America/Chicago
BEGIN:VTIMEZONE
TZID:America/Chicago
BEGIN:STANDARD
TZNAME:CST
DTSTART:20241103T020000
TZOFFSETFROM:-0500
TZOFFSETTO:-0600
RDATE:20251102T020000
RDATE:20261101T020000
END:STANDARD
BEGIN:DAYLIGHT
TZNAME:CDT
DTSTART:20250309T020000
TZOFFSETFROM:-0600
TZOFFSETTO:-0500
RDATE:20260308T020000
RDATE:20270314T020000
END:DAYLIGHT
END:VTIMEZONE
BEGIN:VEVENT
UID:1256e762-502a-43f0-9c91-9d9933bff5f2
DTSTAMP:20260420T124628Z
DESCRIPTION:Cat Secret | An Interactive Preschool Class\n\nYou are invited 
 to a Zoom meeting.\nWhen: Oct 2\, 2025 09:30 AM Central Time (US and Canad
 a)\n\nRegister in advance for this meeting:\nhttps://us02web.zoom.us/meeti
 ng/register/CTOy1hfXSpWtotF6zhGDMA
DTSTART;TZID=America/Chicago:20251002T093000
DTEND;TZID=America/Chicago:20251002T100000
LOCATION:https://us02web.zoom.us/meeting/register/CTOy1hfXSpWtotF6zhGDMA
SUMMARY:Cat Secret | An Interactive Preschool Class
END:VEVENT
END:VCALENDAR
