BEGIN:VCALENDAR
VERSION:2.0
PRODID:-//midwestchildcare.org//NONSGML kigkonsult.se iCalcreator 2.30.10//
CALSCALE:GREGORIAN
METHOD:PUBLISH
UID:a59f0829-1f15-4240-af12-c7dd2738ea93
X-WR-CALDESC:Cat Secret | An Interactive Preschool Class\n\nYou are invited
  to a Zoom meeting.\nWhen: Oct 2\, 2025 09:00 AM Central Time (US and Cana
 da)\n\nRegister in advance for this meeting:\nhttps://us02web.zoom.us/meet
 ing/register/1GtXIaQKReK7P7GdLRiqIA\n\nAfter registering\, you will receiv
 e a confirmation email containing information about joining the meeting\n
X-WR-RELCALID:52e53ba94d32dc7dc29c9139349ca03e
X-WR-TIMEZONE:America/Chicago
BEGIN:VTIMEZONE
TZID:America/Chicago
BEGIN:STANDARD
TZNAME:CST
DTSTART:20241103T020000
TZOFFSETFROM:-0500
TZOFFSETTO:-0600
RDATE:20251102T020000
RDATE:20261101T020000
END:STANDARD
BEGIN:DAYLIGHT
TZNAME:CDT
DTSTART:20250309T020000
TZOFFSETFROM:-0600
TZOFFSETTO:-0500
RDATE:20260308T020000
RDATE:20270314T020000
END:DAYLIGHT
END:VTIMEZONE
BEGIN:VEVENT
UID:a43811cf-8676-4212-a759-630bbc25db2d
DTSTAMP:20260420T123354Z
DESCRIPTION:Cat Secret | An Interactive Preschool Class\n\nYou are invited 
 to a Zoom meeting.\nWhen: Oct 2\, 2025 09:00 AM Central Time (US and Canad
 a)\n\nRegister in advance for this meeting:\nhttps://us02web.zoom.us/meeti
 ng/register/1GtXIaQKReK7P7GdLRiqIA\n\nAfter registering\, you will receive
  a confirmation email containing information about joining the meeting\n
DTSTART;TZID=America/Chicago:20251002T090000
DTEND;TZID=America/Chicago:20251002T093000
LOCATION:https://us02web.zoom.us/meeting/register/1GtXIaQKReK7P7GdLRiqIA
SUMMARY:Cat Secret | An Interactive Preschool Class
END:VEVENT
END:VCALENDAR
