BEGIN:VCALENDAR
VERSION:2.0
PRODID:-//midwestchildcare.org//NONSGML kigkonsult.se iCalcreator 2.30.10//
CALSCALE:GREGORIAN
METHOD:PUBLISH
UID:6ded46c4-3e70-4669-905b-5ea1380bb690
X-WR-CALDESC:Understanding and Prevention of Eating Disorders | 1-Hour Webi
 nar\n\nPlease register for Understanding and Prevention of Eating Disorder
 s on Sep 25\, 2025 1:00 PM CDT at:\nhttps://attendee.gotowebinar.com/regis
 ter/5967754840381026647\n\nAfter registering\, you will receive a confirma
 tion email containing information about joining the webinar.\n
X-WR-RELCALID:fcf8987456410815bdd1c9883698a6d5
X-WR-TIMEZONE:America/Chicago
BEGIN:VTIMEZONE
TZID:America/Chicago
BEGIN:STANDARD
TZNAME:CST
DTSTART:20241103T020000
TZOFFSETFROM:-0500
TZOFFSETTO:-0600
RDATE:20251102T020000
RDATE:20261101T020000
END:STANDARD
BEGIN:DAYLIGHT
TZNAME:CDT
DTSTART:20250309T020000
TZOFFSETFROM:-0600
TZOFFSETTO:-0500
RDATE:20260308T020000
RDATE:20270314T020000
END:DAYLIGHT
END:VTIMEZONE
BEGIN:VEVENT
UID:473ccd2e-9c89-4da2-9ce7-55000d7518d1
DTSTAMP:20260420T143935Z
DESCRIPTION:Understanding and Prevention of Eating Disorders | 1-Hour Webin
 ar\n\nPlease register for Understanding and Prevention of Eating Disorders
  on Sep 25\, 2025 1:00 PM CDT at:\nhttps://attendee.gotowebinar.com/regist
 er/5967754840381026647\n\nAfter registering\, you will receive a confirmat
 ion email containing information about joining the webinar.\n
DTSTART;TZID=America/Chicago:20250925T130000
DTEND;TZID=America/Chicago:20250925T140000
LOCATION:https://attendee.gotowebinar.com/register/5967754840381026647
SUMMARY:Understanding and Prevention of Eating Disorders | 1-Hour Webinar
END:VEVENT
END:VCALENDAR
