BEGIN:VCALENDAR
VERSION:2.0
PRODID:-//midwestchildcare.org//NONSGML kigkonsult.se iCalcreator 2.30.10//
CALSCALE:GREGORIAN
METHOD:PUBLISH
UID:d4f2835d-d712-4f7c-9692-1acba69b0408
X-WR-CALDESC:Spunky Little Monkey | An Interactive Preschool Class\n\nYou a
 re invited to a Zoom meeting.When: Sep 25\, 2025 10:00 AM Central Time (US
  and Canada)\n\nRegister in advance for this meeting:\nhttps://us02web.zoo
 m.us/meeting/register/hNZPn7SxSY6MGtkX2JdJgA\n\nAfter registering\, you wi
 ll receive a confirmation email containing information about joining the m
 eeting.
X-WR-RELCALID:a7ef2fd7f59dad71de694509f1fe6b12
X-WR-TIMEZONE:America/Chicago
BEGIN:VTIMEZONE
TZID:America/Chicago
BEGIN:STANDARD
TZNAME:CST
DTSTART:20241103T020000
TZOFFSETFROM:-0500
TZOFFSETTO:-0600
RDATE:20251102T020000
RDATE:20261101T020000
END:STANDARD
BEGIN:DAYLIGHT
TZNAME:CDT
DTSTART:20250309T020000
TZOFFSETFROM:-0600
TZOFFSETTO:-0500
RDATE:20260308T020000
RDATE:20270314T020000
END:DAYLIGHT
END:VTIMEZONE
BEGIN:VEVENT
UID:32dcb85c-5d8d-4b4f-8b05-7b9d12b645b1
DTSTAMP:20260420T142010Z
DESCRIPTION:Spunky Little Monkey | An Interactive Preschool Class\n\nYou ar
 e invited to a Zoom meeting.When: Sep 25\, 2025 10:00 AM Central Time (US 
 and Canada)\n\nRegister in advance for this meeting:\nhttps://us02web.zoom
 .us/meeting/register/hNZPn7SxSY6MGtkX2JdJgA\n\nAfter registering\, you wil
 l receive a confirmation email containing information about joining the me
 eting.
DTSTART;TZID=America/Chicago:20250925T100000
DTEND;TZID=America/Chicago:20250925T103000
LOCATION:https://us02web.zoom.us/meeting/register/hNZPn7SxSY6MGtkX2JdJgA
SUMMARY:Spunky Little Monkey | An Interactive Preschool Class
END:VEVENT
END:VCALENDAR
