BEGIN:VCALENDAR
VERSION:2.0
PRODID:-//midwestchildcare.org//NONSGML kigkonsult.se iCalcreator 2.30.10//
CALSCALE:GREGORIAN
METHOD:PUBLISH
UID:011d09e0-0be7-4107-811e-83c6ef9fb5ff
X-WR-CALDESC:Spunky Little Monkey | An Interactive Preschool Class\n\nYou a
 re invited to a Zoom meeting.When: Sep 25\, 2025 09:30 AM Central Time (US
  and Canada)\n\nRegister in advance for this meeting:\nhttps://us02web.zoo
 m.us/meeting/register/6l7gbIKBRpSjK3aWcQ2vyQ\n\nAfter registering\, you wi
 ll receive a confirmation email containing information about joining the m
 eeting.
X-WR-RELCALID:119e017f20daee340da1fc997da2cf47
X-WR-TIMEZONE:America/Chicago
BEGIN:VTIMEZONE
TZID:America/Chicago
BEGIN:STANDARD
TZNAME:CST
DTSTART:20241103T020000
TZOFFSETFROM:-0500
TZOFFSETTO:-0600
RDATE:20251102T020000
RDATE:20261101T020000
END:STANDARD
BEGIN:DAYLIGHT
TZNAME:CDT
DTSTART:20250309T020000
TZOFFSETFROM:-0600
TZOFFSETTO:-0500
RDATE:20260308T020000
RDATE:20270314T020000
END:DAYLIGHT
END:VTIMEZONE
BEGIN:VEVENT
UID:9537a0ea-586d-4508-8b34-0b2a8cbb2cf8
DTSTAMP:20260420T144532Z
DESCRIPTION:Spunky Little Monkey | An Interactive Preschool Class\n\nYou ar
 e invited to a Zoom meeting.When: Sep 25\, 2025 09:30 AM Central Time (US 
 and Canada)\n\nRegister in advance for this meeting:\nhttps://us02web.zoom
 .us/meeting/register/6l7gbIKBRpSjK3aWcQ2vyQ\n\nAfter registering\, you wil
 l receive a confirmation email containing information about joining the me
 eting.
DTSTART;TZID=America/Chicago:20250925T093000
DTEND;TZID=America/Chicago:20250925T100000
LOCATION:https://us02web.zoom.us/meeting/register/6l7gbIKBRpSjK3aWcQ2vyQ
SUMMARY:Spunky Little Monkey | An Interactive Preschool Class
END:VEVENT
END:VCALENDAR
