BEGIN:VCALENDAR
VERSION:2.0
PRODID:-//midwestchildcare.org//NONSGML kigkonsult.se iCalcreator 2.30.10//
CALSCALE:GREGORIAN
METHOD:PUBLISH
UID:9a7fc355-cde1-4248-ab81-7fa6c73293a8
X-WR-CALDESC:Spunky Little Monkey | An Interactive Preschool Class\n\nYou a
 re invited to a Zoom meeting.\nWhen: Sep 25\, 2025 09:00 AM Central Time (
 US and Canada)\n\nRegister in advance for this meeting:\nhttps://us02web.z
 oom.us/meeting/register/8QU-Szw2Q2uRhMgAzxwFpQ\n\nAfter registering\, you 
 will receive a confirmation email containing information about joining the
  meeting.
X-WR-RELCALID:d139de328ab9195e8dad77926b8d70eb
X-WR-TIMEZONE:America/Chicago
BEGIN:VTIMEZONE
TZID:America/Chicago
BEGIN:STANDARD
TZNAME:CST
DTSTART:20241103T020000
TZOFFSETFROM:-0500
TZOFFSETTO:-0600
RDATE:20251102T020000
RDATE:20261101T020000
END:STANDARD
BEGIN:DAYLIGHT
TZNAME:CDT
DTSTART:20250309T020000
TZOFFSETFROM:-0600
TZOFFSETTO:-0500
RDATE:20260308T020000
RDATE:20270314T020000
END:DAYLIGHT
END:VTIMEZONE
BEGIN:VEVENT
UID:50878fc0-2153-49e7-9b9a-e6d030f79c9a
DTSTAMP:20260420T143349Z
DESCRIPTION:Spunky Little Monkey | An Interactive Preschool Class\n\nYou ar
 e invited to a Zoom meeting.\nWhen: Sep 25\, 2025 09:00 AM Central Time (U
 S and Canada)\n\nRegister in advance for this meeting:\nhttps://us02web.zo
 om.us/meeting/register/8QU-Szw2Q2uRhMgAzxwFpQ\n\nAfter registering\, you w
 ill receive a confirmation email containing information about joining the 
 meeting.
DTSTART;TZID=America/Chicago:20250925T090000
DTEND;TZID=America/Chicago:20250925T093000
LOCATION:https://us02web.zoom.us/meeting/register/8QU-Szw2Q2uRhMgAzxwFpQ
SUMMARY:Spunky Little Monkey | An Interactive Preschool Class
END:VEVENT
END:VCALENDAR
