BEGIN:VCALENDAR
VERSION:2.0
PRODID:-//midwestchildcare.org//NONSGML kigkonsult.se iCalcreator 2.30.10//
CALSCALE:GREGORIAN
METHOD:PUBLISH
UID:db44784c-3d21-4755-b013-b401df364b15
X-WR-CALDESC:HSI Pediatric First Aid | CPR AED Child/Infant/Adult (2020) In
 -Person Class\n\nClass Number:	\n33076229\n\nClass Type:	\nClassroom Trainin
 g\n\nDescription:	\nHSI Pediatric First Aid | CPR AED Child/Infant/Adult (2
 020)\n\nLocation:	\n7701 Pacific St\nOmaha\, NE 68114\n\nDate/Time:	\n09/25/
 2025\, 6:00 PM - 10:00 PM
X-WR-RELCALID:2225b982536a0e9653e7c82e0f02210e
X-WR-TIMEZONE:America/Chicago
BEGIN:VTIMEZONE
TZID:America/Chicago
BEGIN:STANDARD
TZNAME:CST
DTSTART:20241103T020000
TZOFFSETFROM:-0500
TZOFFSETTO:-0600
RDATE:20251102T020000
RDATE:20261101T020000
END:STANDARD
BEGIN:DAYLIGHT
TZNAME:CDT
DTSTART:20250309T020000
TZOFFSETFROM:-0600
TZOFFSETTO:-0500
RDATE:20260308T020000
RDATE:20270314T020000
END:DAYLIGHT
END:VTIMEZONE
BEGIN:VEVENT
UID:c95c77ee-bac5-485e-8828-e19ea493e0b7
DTSTAMP:20260420T144711Z
DESCRIPTION:HSI Pediatric First Aid | CPR AED Child/Infant/Adult (2020) In-
 Person Class\n\nClass Number:	\n33076229\n\nClass Type:	\nClassroom Training
 \n\nDescription:	\nHSI Pediatric First Aid | CPR AED Child/Infant/Adult (20
 20)\n\nLocation:	\n7701 Pacific St\nOmaha\, NE 68114\n\nDate/Time:	\n09/25/2
 025\, 6:00 PM - 10:00 PM
DTSTART;TZID=America/Chicago:20250925T180000
DTEND;TZID=America/Chicago:20250925T220000
LOCATION:https://otis.osmanager4.com/#/openEnrollment?co=1&cid=3673051
SUMMARY:HSI Pediatric First Aid | CPR AED Child/Infant/Adult (2020) In-Pers
 on Class
END:VEVENT
END:VCALENDAR
