BEGIN:VCALENDAR
VERSION:2.0
PRODID:-//midwestchildcare.org//NONSGML kigkonsult.se iCalcreator 2.30.10//
CALSCALE:GREGORIAN
METHOD:PUBLISH
UID:f21914b9-8383-4d35-9de0-9389b7c800a7
X-WR-CALDESC:Sugar: Risk and Recommendations to Manage Children's Intake | 
 1-Hour Webinar\n\nPlease register for Sugar: Risk and Recommendations to M
 anage Children's Intake on Sep 23\, 2025 7:00 PM CDT at:\n\nhttps://attend
 ee.gotowebinar.com/register/7922247809427241309\n\nAfter registering\, you
  will receive a confirmation email containing information about joining th
 e webinar.\n
X-WR-RELCALID:42571fdd8aa32be2ada91fa1d2b59d58
X-WR-TIMEZONE:America/Chicago
BEGIN:VTIMEZONE
TZID:America/Chicago
BEGIN:STANDARD
TZNAME:CST
DTSTART:20241103T020000
TZOFFSETFROM:-0500
TZOFFSETTO:-0600
RDATE:20251102T020000
RDATE:20261101T020000
END:STANDARD
BEGIN:DAYLIGHT
TZNAME:CDT
DTSTART:20250309T020000
TZOFFSETFROM:-0600
TZOFFSETTO:-0500
RDATE:20260308T020000
RDATE:20270314T020000
END:DAYLIGHT
END:VTIMEZONE
BEGIN:VEVENT
UID:3dd38a62-dad7-45bf-9ef3-4bc2fb6a3d2e
DTSTAMP:20260420T144146Z
DESCRIPTION:Sugar: Risk and Recommendations to Manage Children's Intake | 1
 -Hour Webinar\n\nPlease register for Sugar: Risk and Recommendations to Ma
 nage Children's Intake on Sep 23\, 2025 7:00 PM CDT at:\n\nhttps://attende
 e.gotowebinar.com/register/7922247809427241309\n\nAfter registering\, you 
 will receive a confirmation email containing information about joining the
  webinar.\n
DTSTART;TZID=America/Chicago:20250923T190000
DTEND;TZID=America/Chicago:20250923T200000
LOCATION:https://attendee.gotowebinar.com/register/7922247809427241309
SUMMARY:Sugar: Risk and Recommendations to Manage Children's Intake | 1-Hou
 r Webinar
END:VEVENT
END:VCALENDAR
