BEGIN:VCALENDAR
VERSION:2.0
PRODID:-//midwestchildcare.org//NONSGML kigkonsult.se iCalcreator 2.30.10//
CALSCALE:GREGORIAN
METHOD:PUBLISH
UID:c8e8340b-cd93-4073-9eac-b912f06ed8b3
X-WR-CALDESC:1/2 IN-PERSON Training at Midwest Child Care\, 7701 Pacific St
 \, Suite 200\n\n*** Note\, although the registration is through GoToWebina
 r\, this is an IN-PERSON training\n\nPlease register for IN-PERSON TRAININ
 G Using Instant Pot\, Air Fryer and Crock Pots to Meet CACFP Guidelines on
  Sep 21\, 2025 9:00 AM CDT at:\n\nhttps://attendee.gotowebinar.com/registe
 r/2222651110408475487\n\nAfter registering\, you will receive a confirmati
 on email containing information about joining the webinar.
X-WR-RELCALID:f4d6cc17e719446f7bd5521190dd1baf
X-WR-TIMEZONE:America/Chicago
BEGIN:VTIMEZONE
TZID:America/Chicago
BEGIN:STANDARD
TZNAME:CST
DTSTART:20241103T020000
TZOFFSETFROM:-0500
TZOFFSETTO:-0600
RDATE:20251102T020000
RDATE:20261101T020000
END:STANDARD
BEGIN:DAYLIGHT
TZNAME:CDT
DTSTART:20250309T020000
TZOFFSETFROM:-0600
TZOFFSETTO:-0500
RDATE:20260308T020000
RDATE:20270314T020000
END:DAYLIGHT
END:VTIMEZONE
BEGIN:VEVENT
UID:373f6743-0002-49fa-baa8-957800fa2536
DTSTAMP:20260420T144304Z
DESCRIPTION:1/2 IN-PERSON Training at Midwest Child Care\, 7701 Pacific St\
 , Suite 200\n\n*** Note\, although the registration is through GoToWebinar
 \, this is an IN-PERSON training\n\nPlease register for IN-PERSON TRAINING
  Using Instant Pot\, Air Fryer and Crock Pots to Meet CACFP Guidelines on 
 Sep 21\, 2025 9:00 AM CDT at:\n\nhttps://attendee.gotowebinar.com/register
 /2222651110408475487\n\nAfter registering\, you will receive a confirmatio
 n email containing information about joining the webinar.
DTSTART;TZID=America/Chicago:20250921T090000
DTEND;TZID=America/Chicago:20250921T100000
LOCATION:https://attendee.gotowebinar.com/register/2222651110408475487
SUMMARY:1/2 IN-PERSON Training at Midwest Child Care\, 7701 Pacific St\, Su
 ite 200
END:VEVENT
END:VCALENDAR
