BEGIN:VCALENDAR
VERSION:2.0
PRODID:-//midwestchildcare.org//NONSGML kigkonsult.se iCalcreator 2.30.10//
CALSCALE:GREGORIAN
METHOD:PUBLISH
UID:608bd0b3-30c5-4552-924d-a209a1814604
X-WR-CALDESC:Infant Formula: Storage\, Best Practices\, and Introducing a C
 up | 1-hour Webinar\n\nPlease register for Infant Formula: Storage\, Best 
 Practices\, and Introducing a Cup on Sep 18\, 2025 7:00 PM CDT at:\n\nhttp
 s://attendee.gotowebinar.com/register/5795454771238639200\n\nAfter registe
 ring\, you will receive a confirmation email containing information about 
 joining the webinar.
X-WR-RELCALID:9acd98f6f399c681ecd956b02234fa40
X-WR-TIMEZONE:America/Chicago
BEGIN:VTIMEZONE
TZID:America/Chicago
BEGIN:STANDARD
TZNAME:CST
DTSTART:20241103T020000
TZOFFSETFROM:-0500
TZOFFSETTO:-0600
RDATE:20251102T020000
RDATE:20261101T020000
END:STANDARD
BEGIN:DAYLIGHT
TZNAME:CDT
DTSTART:20250309T020000
TZOFFSETFROM:-0600
TZOFFSETTO:-0500
RDATE:20260308T020000
RDATE:20270314T020000
END:DAYLIGHT
END:VTIMEZONE
BEGIN:VEVENT
UID:9e9926df-0e14-4165-b377-5c130fb57e20
DTSTAMP:20260420T144531Z
DESCRIPTION:Infant Formula: Storage\, Best Practices\, and Introducing a Cu
 p | 1-hour Webinar\n\nPlease register for Infant Formula: Storage\, Best P
 ractices\, and Introducing a Cup on Sep 18\, 2025 7:00 PM CDT at:\n\nhttps
 ://attendee.gotowebinar.com/register/5795454771238639200\n\nAfter register
 ing\, you will receive a confirmation email containing information about j
 oining the webinar.
DTSTART;TZID=America/Chicago:20250918T190000
DTEND;TZID=America/Chicago:20250918T200000
LOCATION:https://attendee.gotowebinar.com/register/5795454771238639200
SUMMARY:Infant Formula: Storage\, Best Practices\, and Introducing a Cup | 
 1-hour Webinar
END:VEVENT
END:VCALENDAR
