BEGIN:VCALENDAR
VERSION:2.0
PRODID:-//midwestchildcare.org//NONSGML kigkonsult.se iCalcreator 2.30.10//
CALSCALE:GREGORIAN
METHOD:PUBLISH
UID:d929c34a-2a32-42fc-a1d4-5c0db513f337
X-WR-CALDESC:Going on a Treasure Hunt | An Interactive Preschool Class\n\nY
 ou are invited to a Zoom meeting.\nWhen: Sep 18\, 2025 10:00 AM Central Ti
 me (US and Canada)\n\nRegister in advance for this meeting:\nhttps://us02w
 eb.zoom.us/meeting/register/ORacn4TBRya48jmBKO3ILA\n\nAfter registering\, 
 you will receive a confirmation email containing information about joining
  the meeting.
X-WR-RELCALID:59066899b8c4db9daced5d9fa75acb79
X-WR-TIMEZONE:America/Chicago
BEGIN:VTIMEZONE
TZID:America/Chicago
BEGIN:STANDARD
TZNAME:CST
DTSTART:20241103T020000
TZOFFSETFROM:-0500
TZOFFSETTO:-0600
RDATE:20251102T020000
RDATE:20261101T020000
END:STANDARD
BEGIN:DAYLIGHT
TZNAME:CDT
DTSTART:20250309T020000
TZOFFSETFROM:-0600
TZOFFSETTO:-0500
RDATE:20260308T020000
RDATE:20270314T020000
END:DAYLIGHT
END:VTIMEZONE
BEGIN:VEVENT
UID:de7beb0f-15da-4618-aec1-ffc6b523f7a8
DTSTAMP:20260420T144903Z
DESCRIPTION:Going on a Treasure Hunt | An Interactive Preschool Class\n\nYo
 u are invited to a Zoom meeting.\nWhen: Sep 18\, 2025 10:00 AM Central Tim
 e (US and Canada)\n\nRegister in advance for this meeting:\nhttps://us02we
 b.zoom.us/meeting/register/ORacn4TBRya48jmBKO3ILA\n\nAfter registering\, y
 ou will receive a confirmation email containing information about joining 
 the meeting.
DTSTART;TZID=America/Chicago:20250918T100000
DTEND;TZID=America/Chicago:20250918T103000
LOCATION:https://us02web.zoom.us/meeting/register/ORacn4TBRya48jmBKO3ILA
SUMMARY:Going on a Treasure Hunt | An Interactive Preschool Class
END:VEVENT
END:VCALENDAR
