BEGIN:VCALENDAR
VERSION:2.0
PRODID:-//midwestchildcare.org//NONSGML kigkonsult.se iCalcreator 2.30.10//
CALSCALE:GREGORIAN
METHOD:PUBLISH
UID:25e735a5-a7ed-48e3-b2d6-4831c8bb8225
X-WR-CALDESC:Going on a Treasure Hunt | An Interactive Preschool Class\n\nY
 ou are invited to a Zoom meeting.\nWhen: Sep 18\, 2025 09:00 AM Central Ti
 me (US and Canada)\n\nRegister in advance for this meeting:\nhttps://us02w
 eb.zoom.us/meeting/register/E5vAXlJzS8WGmeM3TyqpXw\n\nAfter registering\, 
 you will receive a confirmation email containing information about joining
  the meeting.
X-WR-RELCALID:1d7a6bf6093ed9b4e22286c72fd9f33f
X-WR-TIMEZONE:America/Chicago
BEGIN:VTIMEZONE
TZID:America/Chicago
BEGIN:STANDARD
TZNAME:CST
DTSTART:20241103T020000
TZOFFSETFROM:-0500
TZOFFSETTO:-0600
RDATE:20251102T020000
RDATE:20261101T020000
END:STANDARD
BEGIN:DAYLIGHT
TZNAME:CDT
DTSTART:20250309T020000
TZOFFSETFROM:-0600
TZOFFSETTO:-0500
RDATE:20260308T020000
RDATE:20270314T020000
END:DAYLIGHT
END:VTIMEZONE
BEGIN:VEVENT
UID:6ebeb2ed-50b8-4df6-b8a3-134cdd5ed53d
DTSTAMP:20260420T142841Z
DESCRIPTION:Going on a Treasure Hunt | An Interactive Preschool Class\n\nYo
 u are invited to a Zoom meeting.\nWhen: Sep 18\, 2025 09:00 AM Central Tim
 e (US and Canada)\n\nRegister in advance for this meeting:\nhttps://us02we
 b.zoom.us/meeting/register/E5vAXlJzS8WGmeM3TyqpXw\n\nAfter registering\, y
 ou will receive a confirmation email containing information about joining 
 the meeting.
DTSTART;TZID=America/Chicago:20250918T090000
DTEND;TZID=America/Chicago:20250918T093000
LOCATION:https://us02web.zoom.us/meeting/register/E5vAXlJzS8WGmeM3TyqpXw
SUMMARY:Going on a Treasure Hunt | An Interactive Preschool Class
END:VEVENT
END:VCALENDAR
