BEGIN:VCALENDAR
VERSION:2.0
PRODID:-//midwestchildcare.org//NONSGML kigkonsult.se iCalcreator 2.30.10//
CALSCALE:GREGORIAN
METHOD:PUBLISH
UID:1cb32623-01fe-4b49-b1c6-19c87641983b
X-WR-CALDESC:The Button Book | An Interactive Preschool Class\n\nYou are in
 vited to a Zoom meeting.When: Sep 11\, 2025 10:00 AM Central Time (US and 
 Canada)\n\nRegister in advance for this meeting:\nhttps://us02web.zoom.us/
 meeting/register/6ZUsKE5FSHuofNRkGoSaQA\n\nAfter registering\, you will re
 ceive a confirmation email containing information about joining the meetin
 g.\n
X-WR-RELCALID:9ace0aced17d4276dd2017ff14973794
X-WR-TIMEZONE:America/Chicago
BEGIN:VTIMEZONE
TZID:America/Chicago
BEGIN:STANDARD
TZNAME:CST
DTSTART:20241103T020000
TZOFFSETFROM:-0500
TZOFFSETTO:-0600
RDATE:20251102T020000
RDATE:20261101T020000
END:STANDARD
BEGIN:DAYLIGHT
TZNAME:CDT
DTSTART:20250309T020000
TZOFFSETFROM:-0600
TZOFFSETTO:-0500
RDATE:20260308T020000
END:DAYLIGHT
END:VTIMEZONE
BEGIN:VEVENT
UID:54ff11cc-54d5-4251-9f7b-ef4ddc560d1b
DTSTAMP:20260420T142157Z
DESCRIPTION:The Button Book | An Interactive Preschool Class\n\nYou are inv
 ited to a Zoom meeting.When: Sep 11\, 2025 10:00 AM Central Time (US and C
 anada)\n\nRegister in advance for this meeting:\nhttps://us02web.zoom.us/m
 eeting/register/6ZUsKE5FSHuofNRkGoSaQA\n\nAfter registering\, you will rec
 eive a confirmation email containing information about joining the meeting
 .\n
DTSTART;TZID=America/Chicago:20250911T100000
DTEND;TZID=America/Chicago:20250911T103000
LOCATION:https://us02web.zoom.us/meeting/register/6ZUsKE5FSHuofNRkGoSaQA
SUMMARY:The Button Book | An Interactive Preschool Class
END:VEVENT
END:VCALENDAR
