BEGIN:VCALENDAR
VERSION:2.0
PRODID:-//midwestchildcare.org//NONSGML kigkonsult.se iCalcreator 2.30.10//
CALSCALE:GREGORIAN
METHOD:PUBLISH
UID:9b159fcb-1587-4161-b255-7e6fbf31469b
X-WR-CALDESC:The Button Book | An Interactive Preschool Class\n\nYou are in
 vited to a Zoom meeting.When: Sep 11\, 2025 09:30 AM Central Time (US and 
 Canada)\n\nRegister in advance for this meeting:\nhttps://us02web.zoom.us/
 meeting/register/g8Dkjbe-SgacXPm4Y6RN3g\n\nAfter registering\, you will re
 ceive a confirmation email containing information about joining the meetin
 g.\n
X-WR-RELCALID:26a70950e3b4f8b36492b564257eedd7
X-WR-TIMEZONE:America/Chicago
BEGIN:VTIMEZONE
TZID:America/Chicago
BEGIN:STANDARD
TZNAME:CST
DTSTART:20241103T020000
TZOFFSETFROM:-0500
TZOFFSETTO:-0600
RDATE:20251102T020000
RDATE:20261101T020000
END:STANDARD
BEGIN:DAYLIGHT
TZNAME:CDT
DTSTART:20250309T020000
TZOFFSETFROM:-0600
TZOFFSETTO:-0500
RDATE:20260308T020000
END:DAYLIGHT
END:VTIMEZONE
BEGIN:VEVENT
UID:488c7543-eff6-4019-b32f-b56120366ff5
DTSTAMP:20260420T141550Z
DESCRIPTION:The Button Book | An Interactive Preschool Class\n\nYou are inv
 ited to a Zoom meeting.When: Sep 11\, 2025 09:30 AM Central Time (US and C
 anada)\n\nRegister in advance for this meeting:\nhttps://us02web.zoom.us/m
 eeting/register/g8Dkjbe-SgacXPm4Y6RN3g\n\nAfter registering\, you will rec
 eive a confirmation email containing information about joining the meeting
 .\n
DTSTART;TZID=America/Chicago:20250911T093000
DTEND;TZID=America/Chicago:20250911T100000
LOCATION:https://us02web.zoom.us/meeting/register/g8Dkjbe-SgacXPm4Y6RN3g
SUMMARY:The Button Book | An Interactive Preschool Class
END:VEVENT
END:VCALENDAR
