BEGIN:VCALENDAR
VERSION:2.0
PRODID:-//midwestchildcare.org//NONSGML kigkonsult.se iCalcreator 2.30.10//
CALSCALE:GREGORIAN
METHOD:PUBLISH
UID:5ffd2613-c156-457f-a366-ed323f85ac82
X-WR-CALDESC:The Button Book | An Interactive Preschool Class\n\nYou are in
 vited to a Zoom meeting.\nWhen: Sep 11\, 2025 09:00 AM Central Time (US an
 d Canada)\n\nRegister in advance for this meeting:\nhttps://us02web.zoom.u
 s/meeting/register/8NLyt-9gQqaflspgWMdCJA\n\nAfter registering\, you will 
 receive a confirmation email containing information about joining the meet
 ing.
X-WR-RELCALID:3b3532dd24130c207454857a488de2e4
X-WR-TIMEZONE:America/Chicago
BEGIN:VTIMEZONE
TZID:America/Chicago
BEGIN:STANDARD
TZNAME:CST
DTSTART:20241103T020000
TZOFFSETFROM:-0500
TZOFFSETTO:-0600
RDATE:20251102T020000
RDATE:20261101T020000
END:STANDARD
BEGIN:DAYLIGHT
TZNAME:CDT
DTSTART:20250309T020000
TZOFFSETFROM:-0600
TZOFFSETTO:-0500
RDATE:20260308T020000
END:DAYLIGHT
END:VTIMEZONE
BEGIN:VEVENT
UID:d086ae50-c552-4f46-afb2-763c55391503
DTSTAMP:20260420T142527Z
DESCRIPTION:The Button Book | An Interactive Preschool Class\n\nYou are inv
 ited to a Zoom meeting.\nWhen: Sep 11\, 2025 09:00 AM Central Time (US and
  Canada)\n\nRegister in advance for this meeting:\nhttps://us02web.zoom.us
 /meeting/register/8NLyt-9gQqaflspgWMdCJA\n\nAfter registering\, you will r
 eceive a confirmation email containing information about joining the meeti
 ng.
DTSTART;TZID=America/Chicago:20250911T090000
DTEND;TZID=America/Chicago:20250911T093000
LOCATION:https://us02web.zoom.us/meeting/register/8NLyt-9gQqaflspgWMdCJA
SUMMARY:The Button Book | An Interactive Preschool Class
END:VEVENT
END:VCALENDAR
