BEGIN:VCALENDAR
VERSION:2.0
PRODID:-//midwestchildcare.org//NONSGML kigkonsult.se iCalcreator 2.30.10//
CALSCALE:GREGORIAN
METHOD:PUBLISH
UID:51d4663c-2c86-4c5f-8aae-c0b079e51a7e
X-WR-CALDESC:HSI Pediatric First Aid | CPR AED Child/Infant/Adult (2020)\n
 \nClass Number:	\n33076227\n\nClass Type:	\nClassroom Training\n\nLocation:	
 \n7701 Pacific St Ste 200\nOmaha\, NE 68114\n\nDate/Time:	\n09/11/2025\, 6:
 00 PM - 8:30 PM\n\nTo Register\nhttps://otis.osmanager4.com/#/openEnrollme
 nt?co=1&cid=4113998
X-WR-RELCALID:37776639f0ce7c9b95afa017476160ca
X-WR-TIMEZONE:America/Chicago
BEGIN:VTIMEZONE
TZID:America/Chicago
BEGIN:STANDARD
TZNAME:CST
DTSTART:20241103T020000
TZOFFSETFROM:-0500
TZOFFSETTO:-0600
RDATE:20251102T020000
RDATE:20261101T020000
END:STANDARD
BEGIN:DAYLIGHT
TZNAME:CDT
DTSTART:20250309T020000
TZOFFSETFROM:-0600
TZOFFSETTO:-0500
RDATE:20260308T020000
END:DAYLIGHT
END:VTIMEZONE
BEGIN:VEVENT
UID:e1ab3309-0b50-460b-9ba8-0c463fe0a588
DTSTAMP:20260420T144531Z
DESCRIPTION:HSI Pediatric First Aid | CPR AED Child/Infant/Adult (2020)\n\n
 Class Number:	\n33076227\n\nClass Type:	\nClassroom Training\n\nLocation:	\n7
 701 Pacific St Ste 200\nOmaha\, NE 68114\n\nDate/Time:	\n09/11/2025\, 6:00 
 PM - 8:30 PM\n\nTo Register\nhttps://otis.osmanager4.com/#/openEnrollment?
 co=1&cid=4113998
DTSTART;TZID=America/Chicago:20250911T183000
DTEND;TZID=America/Chicago:20250911T200000
LOCATION:https://otis.osmanager4.com/#/openEnrollment?co=1&cid=4113998
SUMMARY:HSI Pediatric First Aid | CPR AED Child/Infant/Adult (2020) In-Pers
 on
END:VEVENT
END:VCALENDAR
